{"text_format":"1","workbook":"xlsx","n_sheets":2,"sheets":["NOTLARIM","YAZDIR"],"not_rendered":{"charts":0,"images":0,"macros":0,"external_links":0,"defined_names":2,"comments":0,"pivot_tables":0},"unopened":[],"bounds":{"document_bytes":16777216,"sheet_cells":100000,"rows_first":2000,"rows_last":500,"rows_between":2000,"halvings":0,"cell_chars":16384,"cell_head_chars":4096},"cells_cut":0,"cells_raw":0,"read":"whole","date_system":"1900"}

{"sheet":"NOTLARIM","index":0,"n_rows":39,"n_cols":59,"rows_kept":39,"cut":false,"hidden":false,"merged":[[37,4,37,34],[3,27,3,28],[4,27,4,28],[3,25,3,26],[3,4,3,5],[3,6,3,8],[2,10,4,20],[2,31,2,34],[10,4,11,6],[10,7,11,7],[4,4,4,5],[4,6,4,8],[2,4,2,5],[2,6,2,8],[4,31,4,34],[204,6,214,32],[256,6,260,18],[11,52,12,52],[11,53,11,55],[33,4,33,7],[34,4,34,7],[35,4,35,7],[36,4,36,7],[11,25,11,29],[11,30,12,30],[11,31,12,31],[11,32,12,32],[11,50,12,50],[11,51,12,51],[10,45,12,45],[10,46,12,46],[10,47,12,47],[10,50,10,51],[10,53,10,54],[11,8,11,12],[11,13,11,17],[11,18,12,18],[11,19,12,19],[11,20,11,24],[10,8,10,19],[10,20,10,32],[10,33,12,33],[10,34,12,34],[7,41,7,42],[8,4,8,6],[8,7,8,8],[8,10,8,13],[8,41,8,42],[7,4,7,6],[7,7,7,8],[7,10,7,13],[7,21,8,22],[7,23,8,34],[7,18,8,19],[3,29,3,30],[5,41,5,42],[6,4,6,6],[6,7,6,8],[6,10,6,13],[6,41,6,42],[5,4,5,5],[5,6,5,8],[5,21,6,22],[5,23,6,34],[5,18,6,19],[3,31,3,34]]}
[]
[]
[null,null,null,null,"OKUL ADI",null,null,null,null,null,"DERSLERİM - NOTLARIM - ORTALAMALARIM",null,null,null,null,null,null,null,null,null,null,null,null,null,null,null,null,null,null,null,null,"www.yavuzkoc.com"]
[null,null,null,null,"ÖĞR. YILI",null,null,null,null,null,null,null,null,null,null,null,null,null,null,null,null,null,null,null,null,"Hazırlayan :",null,"Yavuz KOÇ",null,"İletişim :",null,"yavuzvesemra@hotmail.com"]
[null,null,null,null,"AD-SOYAD",null,null,null,null,null,null,null,null,null,null,null,null,null,null,null,null,null,null,null,null,null,null,"Mat. Öğrt.",null,null,null,"yavuzkoc@gmail.com",null,null,null,null,null,null,null,null,null,70,"Geçer",null,null,49.99,"Geçmez"]
[null,null,null,null,"SINIF-NO",null,null,null,null,null,null,null,null,null,"1.D","2.D","YS",null,"YIL SONU BAŞARI PUANI",null,null,"1.Dönem",null,{"$f":"IF($AY$35=0,BG26,BG27)","v":""},null,null,null,null,null,null,null,null,null,null,null,null,null,null,null,{"$f":"COUNTIF($AO$14:$AO$33,AO6)","v":0},"SRML.","Sorumlu Geçti",null,{"$f":"COUNTIF($AQ$14:$AQ$33,AO6)","v":0},null,59.99,"Geçer",null,null,null,null,null,null,null,null,null,null,"TAKDİR belgesi almaya hak kazandı."]
[null,null,null,null,"BAŞARI NOTU ALT SINIRI",null,null,50,null,null,"Haftalık Ders Saati Top.",null,null,null,{"$f":"SUMIF(D14:D33,D13,H14:H33)","v":0},{"$f":"O7","v":0},{"$f":"O7","v":0},null,null,null,null,null,null,null,null,null,null,null,null,null,null,null,null,null,null,null,null,null,null,{"$f":"COUNTIF($AO$14:$AO$33,AO7)","v":0},"ORT","Ortalama ile geçti",null,{"$f":"COUNTIF($AQ$14:$AQ$33,AO7)","v":0},null,69.989999999999995,"Orta",null,null,null,null,null,null,null,null,null,null,"TEŞEKKÜR belgesi almaya hak kazandı."]
[null,null,null,null,"TEŞEKKÜR BELGESİ ALT SINIRI",null,null,70,null,null,"Ağırlıklı Notlar Top.",null,null,null,{"$f":"AT34","v":0},{"$f":"AU34","v":0},{"$f":"AV34","v":0},null,{"$f":"IF(AV35=\"\",\"\",AV35)","v":""},null,null,"YIL SONU",null,{"$f":"IF($BA$35=0,BG33,BG34)","v":""},null,null,null,null,null,null,null,null,null,null,null,null,null,null,null,{"$f":"COUNTIF($AO$14:$AO$33,AO8)","v":0},"ZAYIF","Zayıf geçemedi.",null,{"$f":"COUNTIF($AQ$14:$AQ$33,AO8)","v":0},null,84.99,"İyi",null,null,null,null,null,null,null,null,null,null,"Zayıf  dersi yok."]
[null,null,null,null,"TAKDİR BELGESİ ALT SINIRI",null,null,85,null,null,"Başarı Puanı",null,null,null,{"$f":"IF(AT35=\"\",\"\",AT35)","v":""},{"$f":"IF(AU35=\"\",\"\",AU35)","v":""},{"$f":"IF(AV35=\"\",\"\",AV35)","v":""},null,null,null,null,null,null,null,null,null,null,null,null,null,null,null,null,null,null,null,null,null,null,{"$f":"COUNTIF($AO$14:$AO$33,AO9)","v":0},"DĞRDN","Doğrudan geçti",null,{"$f":"COUNTIF($AQ$14:$AQ$33,AO9)","v":0},null,100,"Pekiyi",null,null,null,null,null,null,null,null,null,null,{"$f":"AY35&\" dersi zayıf. ORTALAMA İLE geçebilecek durumda.\"","v":"0 dersi zayıf. ORTALAMA İLE geçebilecek durumda."}]
[null,null,null,null,null,null,null,null,null,null,null,null,null,null,null,null,null,null,null,null,null,null,null,null,null,null,null,null,null,null,null,null,null,null,null,null,null,null,null,null,null,null,null,null,null,null,null,null,null,null,null,null,null,null,null,null,null,{"$f":"AY35&\" dersi zayıf. SORUMLU geçebilecek durumda.\"","v":"0 dersi zayıf. SORUMLU geçebilecek durumda."}]
[null,null,null,null,null,null,null,{"$f":"SUM(H14:H33)","v":0},"1.DÖNEM",null,null,null,null,null,null,null,null,null,null,null,"2.DÖNEM",null,null,null,null,null,null,null,null,null,null,null,null,"YILSONU PN. ORT.","YIL SONU NOTU",null,null,null,null,null,null,null,null,null,null,"1. DNM. AĞRL NOTU","2. DNM. AĞRL NOTU","YIL SONU AĞRL NOTU",null,null,"GEÇER",null,1,"ZAYIF",null,0,null,{"$f":"AY35&\" dersi zayıf. Bu haliyle SINIF TEKRARI'na kalır.\"","v":"0 dersi zayıf. Bu haliyle SINIF TEKRARI'na kalır."}]
[null,null,null,null,null,null,null,null,"YAZILILAR",null,null,null,null,"SÖZLÜLER",null,null,null,null,"PN. ORT.","NOT ORT.","YAZILILAR",null,null,null,null,"SÖZLÜLER",null,null,null,null,"ÖD. NOT","PN. ORT.","NOT ORT.",null,null,null,null,null,null,null,null,null,null,null,null,null,null,null,null,null,"1.D","2.D","YS","baraj dersi",null,null,null,{"$f":"AY35&\" dersi zayıf. Baraj dersinden SORUMLU, diğerlerinden ORTALAMA İLE geçebilecek durumda.\"","v":"0 dersi zayıf. Baraj dersinden SORUMLU, diğerlerinden ORTALAMA İLE geçebilecek durumda."}]
[null,null,null,"D","SN"," BRJ.","DERSLER","H.D.S.",1,2,3,4,5,1,2,3,4,5,null,null,1,2,3,4,5,1,2,3,4,5,null,null,null,null,null,null,null,null,null,null,"1.dönem","2.dönem","yıl sonu",null,null,null,null,null,null,null,null,null,null,"1.D","2.D","YS",null,"Zayıf dersi yok. DOĞRUDAN geçebilecek durumda."]
[null,null,null,{"$f":"IF(AH14=\"\",\"\",$D$13)","v":""},1,null,null,null,null,null,null,null,null,null,null,null,null,null,{"$f":"IF(OR(I14>0,J14>0,K14>0,L14>0,M14>0,N14>0,O14>0,P14>0,Q14>0,R14>0),ROUND(AVERAGE(I14:R14),2),\"\")","v":""},{"$f":"IF(S14>0,IF(S14<$AT$5,$AU$5,IF(S14<$AT$6,$AU$6,IF(S14<$AT$7,$AU$7,IF(S14<$AT$8,$AU$8,IF(S14<=$AT$9,$AU$9,\"\"))))))","v":""},null,null,null,null,null,null,null,null,null,null,null,{"$f":"IF(OR(U14>0,V14>0,W14>0,X14>0,Y14>0,Z14>0,AA14>0,AB14>0,AC14>0,AD14>0,AE14>0),ROUND(AVERAGE(U14:AE14),2),\"\")","v":""},{"$f":"IF(AF14>0,IF(AF14<$AT$5,$AU$5,IF(AF14<$AT$6,$AU$6,IF(AF14<$AT$7,$AU$7,IF(AF14<$AT$8,$AU$8,IF(AF14<=$AT$9,$AU$9,\"\"))))))","v":""},{"$f":"IF(AND(S14=\"\",AF14=\"\"),\"\",ROUND(AVERAGE(S14,AF14),2))","v":""},{"$f":"IF(AH14>0,IF(AND(AF14<>\"\",AF14>=$AP$5),$AQ$5,IF(AH14<=$AT$5,$AU$5,IF(AH14<=$AT$6,$AU$6,IF(AH14<=$AT$7,$AU$7,IF(AH14<=$AT$8,$AU$8,IF(AH14<=$AT$9,$AU$9,\"\")))))))","v":""},null,null,null,null,null,{"$f":"IF(S14=\"\",\"\",IF(S14>$AT$5,$AO$9,IF(AND(S14<=$AT$5,F14=\"\",$O$9>=$H$7),$AO$7,IF(AND(S14<=$AT$5,F14=\"\",$O$9<$H$7),$AO$6,IF(AND(S14<=$AT$5,F14=\"B\"),$AO$6,\"\")))))","v":""},{"$f":"IF(AF14=\"\",\"\",IF(AF14>$AT$5,$AO$9,IF(AND(AF14<=$AT$5,F14=\"\",$P$9>=$H$7),$AO$7,IF(AND(AF14<=$AT$5,F14=\"\",$P$9<$H$7),$AO$6,IF(AND(AF14<=$AT$5,F14=\"B\"),$AO$6,\"\")))))","v":""},{"$f":"IF(AH14=\"\",\"\",IF(AND(AF14<>\"\",AF14>=$AP$5),$AO$9,IF(AH14>$AT$5,$AO$9,IF(AND(AH14<=$AT$5,F14=\"\",$Q$9>=$H$7),$AO$7,IF(AND(AH14<=$AT$5,F14=\"\",$Q$9<$H$7),$AO$6,IF(AND(AH14<=$AT$5,F14=\"B\"),$AO$6,\"\"))))))","v":""},{"$f":"IF(OR($AV$5=\"$I$12\",$AV$5=\"$J$12\",$AV$5=\"K12\",$AV$5=\"$L$12\"),$D$13,\"\")","v":""},null,{"$f":"IF(S14=\"\",\"\",S14*H14)","v":""},{"$f":"IF(AF14=\"\",\"\",AF14*H14)","v":""},{"$f":"IF(AH14=\"\",\"\",AH14*H14)","v":""},null,null,{"$f":"IF(S14=\"\",\"\",IF(S14>$AT$5,$BA$11,$BD$11))","v":""},{"$f":"IF(AF14=\"\",\"\",IF(AF14>$AT$5,$BA$11,$BD$11))","v":""},{"$f":"IF(AH14=\"\",\"\",IF(AF14=\"\",IF(AH14>$AT$5,$BA$11,$BD$11),IF(AF14>=$AP$5,$BA$11,IF(AH14>$AT$5,$BA$11,$BD$11))))","v":""},{"$f":"IF(F14=\"B\",AY14,\"\")","v":""},{"$f":"IF(F14=\"B\",AZ14,\"\")","v":""},{"$f":"IF(F14=\"B\",BA14,\"\")","v":""},null,{"$f":"$BA$35&\" dersi zayıf. ORTALAMA İLE GEÇTİ.\"","v":"0 dersi zayıf. ORTALAMA İLE GEÇTİ."}]
[null,null,null,"",2,null,null,null,null,null,null,null,null,null,null,null,null,null,{"$f":"IF(OR(I15>0,J15>0,K15>0,L15>0,M15>0,N15>0,O15>0,P15>0,Q15>0,R15>0),ROUND(AVERAGE(I15:R15),2),\"\")","v":""},"",null,null,null,null,null,null,null,null,null,null,null,{"$f":"IF(OR(U15>0,V15>0,W15>0,X15>0,Y15>0,Z15>0,AA15>0,AB15>0,AC15>0,AD15>0,AE15>0),ROUND(AVERAGE(U15:AE15),2),\"\")","v":""},"",{"$f":"IF(AND(S15=\"\",AF15=\"\"),\"\",ROUND(AVERAGE(S15,AF15),2))","v":""},"",null,null,null,null,null,"","","",null,null,"","","",null,null,"","","","","","",null,{"$f":"$BA$35&\" dersi zayıf. SORUMLU GEÇTİ.\"","v":"0 dersi zayıf. SORUMLU GEÇTİ."}]
[null,null,null,"",3,null,null,null,null,null,null,null,null,null,null,null,null,null,"","",null,null,null,null,null,null,null,null,null,null,null,"","","","",null,null,null,null,null,"","","",null,null,"","","",null,null,"","","","","","",null,{"$f":"$BA$35&\" dersi zayıf. SINIF TEKRARI.\"","v":"0 dersi zayıf. SINIF TEKRARI."}]
[null,null,null,"",4,null,null,null,null,null,null,null,null,null,null,null,null,null,"","",null,null,null,null,null,null,null,null,null,null,null,"","","","",null,null,null,null,null,"","","",null,null,"","","",null,null,"","","","","",""]
[null,null,null,"",5,null,null,null,null,null,null,null,null,null,null,null,null,null,"","",null,null,null,null,null,null,null,null,null,null,null,"","","","",null,null,null,null,null,"","","",null,null,"","","",null,null,"","","","","","",null,{"$f":"$BA$35&\" dersi zayıf. BARAJ DERSİNDEN SORUMLU, diğerlerinden ORTALAMA İLE GEÇTİ.\"","v":"0 dersi zayıf. BARAJ DERSİNDEN SORUMLU, diğerlerinden ORTALAMA İLE GEÇTİ."}]
[null,null,null,"",6,null,null,null,null,null,null,null,null,null,null,null,null,null,"","",null,null,null,null,null,null,null,null,null,null,null,"","","","",null,null,null,null,null,"","","",null,null,"","","",null,null,"","","","","","",null,"DOĞRUDAN GEÇTİ."]
[null,null,null,"",7,null,null,null,null,null,null,null,null,null,null,null,null,null,"","",null,null,null,null,null,null,null,null,null,null,null,"","","","",null,null,null,null,null,"","","",null,null,"","","",null,null,"","","","","","",null,"ORTALAMA İLE GEÇTİ."]
[null,null,null,"",8,null,null,null,null,null,null,null,null,null,null,null,null,null,"","",null,null,null,null,null,null,null,null,null,null,null,"","","","",null,null,null,null,null,"","","",null,null,"","","",null,null,"","","","","","",null,"SORUMLU GEÇTİ."]
[null,null,null,"",9,null,null,null,null,null,null,null,null,null,null,null,null,null,"","",null,null,null,null,null,null,null,null,null,null,null,"","","","",null,null,null,null,null,"","","",null,null,"","","",null,null,"","","","","","",null,"SINIF TEKRARI."]
[null,null,null,"",10,null,null,null,null,null,null,null,null,null,null,null,null,null,"","",null,null,null,null,null,null,null,null,null,null,null,"","","","",null,null,null,null,null,"","","",null,null,"","","",null,null,"","","","","","",null,"BARAJ DERSİNDEN SORUMLU, diğerlerinden ORTALAMA İLE GEÇTİ."]
[null,null,null,"",11,null,null,null,null,null,null,null,null,null,null,null,null,null,"","",null,null,null,null,null,null,null,null,null,null,null,"","","","",null,null,null,null,null,"","","",null,null,"","","",null,null,"","","","","",""]
[null,null,null,"",12,null,null,null,null,null,null,null,null,null,null,null,null,null,"","",null,null,null,null,null,null,null,null,null,null,null,"","","","",null,null,null,null,null,"","","",null,null,"","","",null,null,"","","","","","",null,"1.dönem"]
[null,null,null,"",13,null,null,null,null,null,null,null,null,null,null,null,null,null,"","",null,null,null,null,null,null,null,null,null,null,null,"","","","",null,null,null,null,null,"","","",null,null,"","","",null,null,"","","","","","",null,"Zayıfı olmaması",{"$f":"IF($O$9=\"\",\"\",IF($O$9>=$H$9,$BF$6,IF($O$9>=$H$8,$BF$7,$BF$8)))","v":""}]
[null,null,null,"",14,null,null,null,null,null,null,null,null,null,null,null,null,null,"","",null,null,null,null,null,null,null,null,null,null,null,"","","","",null,null,null,null,null,"","","",null,null,"","","",null,null,"","","","","","",null,"Baraj derssiz zayıf var ,ortalama tutuyo",{"$f":"IF(O9=\"\",\"\",IF(AND($BB$35=0,$O$9>=$H$7),$BF$9,IF(AND($BB$35<>0,$O$9>=$H$7),$BF$12,IF(AND($BB$35=0,$O$9<$H$7),$BF$10,IF(AND($BB$35<>0,$O$9<$H$7),$BF$11,\"\")))))","v":""}]
[null,null,null,{"$f":"IF(AH28=\"\",\"\",$D$13)","v":""},15,null,null,null,null,null,null,null,null,null,null,null,null,null,"","",null,null,null,null,null,null,null,null,null,null,null,"","","","",null,null,null,null,null,"","","",null,null,"","","",null,null,"","","","","","",null,"Baraj dersli zayıf var ,ortalama tutuyo"]
[null,null,null,{"$f":"IF(AH29=\"\",\"\",$D$13)","v":""},16,null,null,null,null,null,null,null,null,null,null,null,null,null,"","",null,null,null,null,null,null,null,null,null,null,null,"","","","",null,null,null,null,null,"","","",null,null,"","","",null,null,"","","","","","",null,"Baraj derssiz zayıf var ,ortalama tutmuyo"]
[null,null,null,"",17,null,null,null,null,null,null,null,null,null,null,null,null,null,"","",null,null,null,null,null,null,null,null,null,null,null,"","","","",null,null,null,null,null,"","","",null,null,"","","",null,null,"","","","","","",null,"Baraj dersli zayıf var ,ortalama tutmuyo"]
[null,null,null,"",18,null,null,null,null,null,null,null,null,null,null,null,null,null,"","",null,null,null,null,null,null,null,null,null,null,null,"","","","",null,null,null,null,null,"","","",null,null,"","","",null,null,"","","","","",""]
[null,null,null,"",19,null,null,null,null,null,null,null,null,null,null,null,null,null,"","",null,null,null,null,null,null,null,null,null,null,null,"","","","",null,null,null,null,null,"","","",null,null,"","","",null,null,"","","","","","",null,"2.dönem"]
[null,null,null,"",20,null,null,null,null,null,null,null,null,null,null,null,null,null,"","",null,null,null,null,null,null,null,null,null,null,null,"","","","",null,null,null,null,null,"","","",null,null,"","","",null,null,"","","","","","",null,"Zayıfı olmaması",{"$f":"IF($P$9=\"\",\"\",IF($P$9>=$H$9,$BF$6,IF($P$9>=$H$8,$BF$7,$BF$8)))","v":""}]
[null,null,null,null,"Başarılı Ders Sayısı :",null,null,null,{"$f":"IF(AND(COUNTIF(I14:I33,\"<49,99\")=0,COUNTIF(I14:I33,\">=49,99\")=0),\"\",COUNTIF(I14:I33,\">=50,00\"))","v":""},{"$f":"IF(AND(COUNTIF(J14:J33,\"<49,99\")=0,COUNTIF(J14:J33,\">=49,99\")=0),\"\",COUNTIF(J14:J33,\">=50,00\"))","v":""},"","","","","","","","","",{"$f":"IF(AND(COUNTIF(T14:T33,\"<2\")=0,COUNTIF(T14:T33,\">=2\")=0),\"\",COUNTIF(T14:T33,\">=2\"))","v":""},{"$f":"IF(AND(COUNTIF(U14:U33,\"<49,99\")=0,COUNTIF(U14:U33,\">=49,99\")=0),\"\",COUNTIF(U14:U33,\">=50,00\"))","v":""},{"$f":"IF(AND(COUNTIF(V14:V33,\"<49,99\")=0,COUNTIF(V14:V33,\">=49,99\")=0),\"\",COUNTIF(V14:V33,\">=50,00\"))","v":""},"","","","","","","","","",{"$f":"IF(AND(COUNTIF(AF14:AF33,\"<49,99\")=0,COUNTIF(AF14:AF33,\">=49,99\")=0),\"\",COUNTIF(AF14:AF33,\">=50,00\"))","v":""},{"$f":"IF(AND(COUNTIF(AG14:AG33,\"<2\")=0,COUNTIF(AG14:AG33,\">=2\")=0),\"\",COUNTIF(AG14:AG33,\">=2\"))","v":""},"",{"$f":"IF(AG34=\"\",\"\",AG34)","v":""},null,null,null,null,null,null,null,null,null,null,{"$f":"SUM(AT14:AT33)","v":0},{"$f":"SUM(AU14:AU33)","v":0},{"$f":"SUM(AV14:AV33)","v":0},null,null,{"$f":"COUNTIF(AY14:AY33,$BA$11)","v":0},0,0,0,0,0,"GEÇER",null,{"$f":"IF(Q9=\"\",\"\",IF(AND($BD$35=0,$Q$9>=$H$7),$BF$14,IF(AND(BD35<>0,$Q$9>=$H$7),$BF$18,IF(AND(BD35=0,$Q$9<$H$7),$BF$15,IF(AND($BD$35<>0,$Q$9<$H$7),$BF$16,\"\")))))","v":""}]
[null,null,null,null,"Başarısız Ders Sayısı :",null,null,null,{"$f":"IF(AND(COUNTIF(I14:I33,\"<50,00\")=0,COUNTIF(I14:I33,\">=50,00\")=0),\"\",COUNTIF(I14:I33,\"<50,00\"))","v":""},{"$f":"IF(AND(COUNTIF(J14:J33,\"<50,00\")=0,COUNTIF(J14:J33,\">=50,00\")=0),\"\",COUNTIF(J14:J33,\"<50,00\"))","v":""},"","","","","","","","","",{"$f":"IF(AND(COUNTIF(T14:T33,\"<2\")=0,COUNTIF(T14:T33,\">=2\")=0),\"\",COUNTIF(T14:T33,\"<2\"))","v":""},{"$f":"IF(AND(COUNTIF(U14:U33,\"<50,00\")=0,COUNTIF(U14:U33,\">=50,00\")=0),\"\",COUNTIF(U14:U33,\"<50,00\"))","v":""},{"$f":"IF(AND(COUNTIF(V14:V33,\"<50,00\")=0,COUNTIF(V14:V33,\">=50,00\")=0),\"\",COUNTIF(V14:V33,\"<50,00\"))","v":""},"","","","","","","","","",{"$f":"IF(AND(COUNTIF(AF14:AF33,\"<50,00\")=0,COUNTIF(AF14:AF33,\">=50,00\")=0),\"\",COUNTIF(AF14:AF33,\"<50,00\"))","v":""},{"$f":"IF(AND(COUNTIF(AG14:AG33,\"<2\")=0,COUNTIF(AG14:AG33,\">=2\")=0),\"\",COUNTIF(AG14:AG33,\"<2\"))","v":""},{"$f":"IF(AND(COUNTIF(AH14:AH33,\"<50,00\")=0,COUNTIF(AH14:AH33,\">=50,00\")=0),\"\",COUNTIF(AH14:AH33,\"<50,00\"))","v":""},{"$f":"IF(AG35=\"\",\"\",AG35)","v":""},null,null,null,null,null,null,null,null,null,null,{"$f":"IF(AT34=0,\"\",ROUND(AT34/$O$7,2))","v":""},{"$f":"IF(AU34=0,\"\",ROUND(AU34/$O$7,2))","v":""},"",null,null,{"$f":"COUNTIF(AY14:AY33,$BD$11)","v":0},0,0,0,0,0,"ZAYIF"]
[null,null,null,null,"Not Ortalaması :",null,null,null,{"$f":"IF(AND(I34=\"\",I35=\"\"),\"\",AVERAGE(I14:I33))","v":""},{"$f":"IF(AND(J34=\"\",J35=\"\"),\"\",AVERAGE(J14:J33))","v":""},"","","","","","","","",{"$f":"IF(AND(S34=\"\",S35=\"\"),\"\",AVERAGE(S14:S33))","v":""},"",{"$f":"IF(AND(U34=\"\",U35=\"\"),\"\",AVERAGE(U14:U33))","v":""},{"$f":"IF(AND(V34=\"\",V35=\"\"),\"\",AVERAGE(V14:V33))","v":""},"","","","","","","","","",{"$f":"IF(AND(AF34=\"\",AF35=\"\"),\"\",AVERAGE(AF14:AF33))","v":""},"",{"$f":"IF(AND(AH34=\"\",AH35=\"\"),\"\",AVERAGE(AH14:AH33))","v":""},{"$f":"IF(AND(AI34=\"\",AI35=\"\"),\"\",AVERAGE(#REF!))","v":""}]
[null,null,null,null,"Başarı Yüzdesi :",null,null,null,{"$f":"IF(AND(I34=\"\",I35=\"\"),\"\",(100*I34)/(I34+I35))","v":""},{"$f":"IF(AND(J34=\"\",J35=\"\"),\"\",(100*J34)/(J34+J35))","v":""},"","","","","","","","","","",{"$f":"IF(AND(U34=\"\",U35=\"\"),\"\",(100*U34)/(U34+U35))","v":""},{"$f":"IF(AND(V34=\"\",V35=\"\"),\"\",(100*V34)/(V34+V35))","v":""},"","","","","","","","","","","","",{"$f":"IF(AG37=\"\",\"\",AG37)","v":""}]
[null,null,null,null,"YALNIZ BEYAZ VE GRİ ALANLARA VERİ GİRİŞİ YAPINIZ VE SİLME İŞLEMİ UYGULAYINIZ."]
[null,null,null,null,"Formülleri korumak için sayfada koruma vardır. Yalnız sayfa koruması şifresizdir. Kurcalamak isterseniz korumayı kaldırabilirsiniz."]

{"sheet":"YAZDIR","index":1,"n_rows":37,"n_cols":35,"rows_kept":37,"cut":false,"hidden":false,"merged":[[35,4,35,7],[36,4,36,7],[203,6,213,32],[255,6,259,18],[33,4,33,7],[34,4,34,7],[10,4,11,6],[10,7,11,7],[10,8,10,19],[10,20,10,32],[10,33,12,33],[11,8,11,12],[11,13,11,17],[11,18,12,18],[11,19,12,19],[11,20,11,24],[10,34,12,34],[11,25,11,29],[11,30,12,30],[11,31,12,31],[11,32,12,32],[7,23,8,34],[8,4,8,6],[8,7,8,8],[8,10,8,13],[6,4,6,6],[6,7,6,8],[6,10,6,13],[7,4,7,6],[7,7,7,8],[7,10,7,13],[7,18,8,19],[7,21,8,22],[5,4,5,5],[5,6,5,8],[5,18,6,19],[5,21,6,22],[5,23,6,34],[2,4,2,5],[2,6,2,8],[2,10,4,20],[2,31,2,34],[3,4,3,5],[3,6,3,8],[3,25,3,26],[3,27,3,28],[3,29,3,30],[3,31,3,34],[4,4,4,5],[4,6,4,8],[4,27,4,28],[4,31,4,34]]}
[]
[null,null,null,null,"Bu sayfa yazıcı çıktısı almak içindir. Veriler diğer sayfadan gelir."]
[null,null,null,null,"OKUL ADI",null,{"$f":"IF(NOTLARIM!G3=\"\",\"\",NOTLARIM!G3)","v":""},null,null,null,"DERSLERİM - NOTLARIM - ORTALAMALARIM",null,null,null,null,null,null,null,null,null,null,null,null,null,null,null,null,null,null,null,null,{"$f":"IF(NOTLARIM!AF3=\"\",\"\",NOTLARIM!AF3)","v":"www.yavuzkoc.com"},{"$f":"IF(NOTLARIM!AG3=\"\",\"\",NOTLARIM!AG3)","v":""},{"$f":"IF(NOTLARIM!AH3=\"\",\"\",NOTLARIM!AH3)","v":""},{"$f":"IF(NOTLARIM!AI3=\"\",\"\",NOTLARIM!AI3)","v":""}]
[null,null,null,null,"ÖĞR. YILI",null,{"$f":"IF(NOTLARIM!G4=\"\",\"\",NOTLARIM!G4)","v":""},null,null,null,null,null,null,null,null,null,null,null,null,null,null,null,null,null,null,{"$f":"IF(NOTLARIM!Z4=\"\",\"\",NOTLARIM!Z4)","v":"Hazırlayan :"},{"$f":"IF(NOTLARIM!AA4=\"\",\"\",NOTLARIM!AA4)","v":""},{"$f":"IF(NOTLARIM!AB4=\"\",\"\",NOTLARIM!AB4)","v":"Yavuz KOÇ"},{"$f":"IF(NOTLARIM!AC4=\"\",\"\",NOTLARIM!AC4)","v":""},{"$f":"IF(NOTLARIM!AD4=\"\",\"\",NOTLARIM!AD4)","v":"İletişim :"},{"$f":"IF(NOTLARIM!AE4=\"\",\"\",NOTLARIM!AE4)","v":""},{"$f":"IF(NOTLARIM!AF4=\"\",\"\",NOTLARIM!AF4)","v":"yavuzvesemra@hotmail.com"},{"$f":"IF(NOTLARIM!AG4=\"\",\"\",NOTLARIM!AG4)","v":""},{"$f":"IF(NOTLARIM!AH4=\"\",\"\",NOTLARIM!AH4)","v":""},{"$f":"IF(NOTLARIM!AI4=\"\",\"\",NOTLARIM!AI4)","v":""}]
[null,null,null,null,"AD-SOYAD",null,{"$f":"IF(NOTLARIM!G5=\"\",\"\",NOTLARIM!G5)","v":""},null,null,null,null,null,null,null,null,null,null,null,null,null,null,null,null,null,null,null,null,{"$f":"IF(NOTLARIM!AB5=\"\",\"\",NOTLARIM!AB5)","v":"Mat. Öğrt."},{"$f":"IF(NOTLARIM!AC5=\"\",\"\",NOTLARIM!AC5)","v":""},null,null,{"$f":"IF(NOTLARIM!AF5=\"\",\"\",NOTLARIM!AF5)","v":"yavuzkoc@gmail.com"},{"$f":"IF(NOTLARIM!AG5=\"\",\"\",NOTLARIM!AG5)","v":""},{"$f":"IF(NOTLARIM!AH5=\"\",\"\",NOTLARIM!AH5)","v":""},{"$f":"IF(NOTLARIM!AI5=\"\",\"\",NOTLARIM!AI5)","v":""}]
[null,null,null,null,"SINIF-NO",null,{"$f":"IF(NOTLARIM!G6=\"\",\"\",NOTLARIM!G6)","v":""},null,null,null,null,null,null,null,"1.D","2.D","YS",null,"YIL SONU BAŞARI PUANI",null,null,"1.Dönem",null,{"$f":"IF(NOTLARIM!X6=\"\",\"\",NOTLARIM!X6)","v":""},{"$f":"IF(NOTLARIM!Y6=\"\",\"\",NOTLARIM!Y6)","v":""},{"$f":"IF(NOTLARIM!Z6=\"\",\"\",NOTLARIM!Z6)","v":""},{"$f":"IF(NOTLARIM!AA6=\"\",\"\",NOTLARIM!AA6)","v":""},{"$f":"IF(NOTLARIM!AB6=\"\",\"\",NOTLARIM!AB6)","v":""},{"$f":"IF(NOTLARIM!AC6=\"\",\"\",NOTLARIM!AC6)","v":""},{"$f":"IF(NOTLARIM!AD6=\"\",\"\",NOTLARIM!AD6)","v":""},{"$f":"IF(NOTLARIM!AE6=\"\",\"\",NOTLARIM!AE6)","v":""},{"$f":"IF(NOTLARIM!AF6=\"\",\"\",NOTLARIM!AF6)","v":""},{"$f":"IF(NOTLARIM!AG6=\"\",\"\",NOTLARIM!AG6)","v":""},{"$f":"IF(NOTLARIM!AH6=\"\",\"\",NOTLARIM!AH6)","v":""},{"$f":"IF(NOTLARIM!AI6=\"\",\"\",NOTLARIM!AI6)","v":""}]
[null,null,null,null,"BAŞARI NOTU ALT SINIRI",null,null,{"$f":"IF(NOTLARIM!H7=\"\",\"\",NOTLARIM!H7)","v":50},null,null,"Haftalık Ders Saati Top.",null,null,null,{"$f":"IF(NOTLARIM!O7=\"\",\"\",NOTLARIM!O7)","v":0},{"$f":"IF(NOTLARIM!P7=\"\",\"\",NOTLARIM!P7)","v":0},{"$f":"IF(NOTLARIM!Q7=\"\",\"\",NOTLARIM!Q7)","v":0},null,null,null,null,null,null,{"$f":"IF(NOTLARIM!X7=\"\",\"\",NOTLARIM!X7)","v":""},{"$f":"IF(NOTLARIM!Y7=\"\",\"\",NOTLARIM!Y7)","v":""},{"$f":"IF(NOTLARIM!Z7=\"\",\"\",NOTLARIM!Z7)","v":""},{"$f":"IF(NOTLARIM!AA7=\"\",\"\",NOTLARIM!AA7)","v":""},{"$f":"IF(NOTLARIM!AB7=\"\",\"\",NOTLARIM!AB7)","v":""},{"$f":"IF(NOTLARIM!AC7=\"\",\"\",NOTLARIM!AC7)","v":""},{"$f":"IF(NOTLARIM!AD7=\"\",\"\",NOTLARIM!AD7)","v":""},{"$f":"IF(NOTLARIM!AE7=\"\",\"\",NOTLARIM!AE7)","v":""},{"$f":"IF(NOTLARIM!AF7=\"\",\"\",NOTLARIM!AF7)","v":""},{"$f":"IF(NOTLARIM!AG7=\"\",\"\",NOTLARIM!AG7)","v":""},{"$f":"IF(NOTLARIM!AH7=\"\",\"\",NOTLARIM!AH7)","v":""},{"$f":"IF(NOTLARIM!AI7=\"\",\"\",NOTLARIM!AI7)","v":""}]
[null,null,null,null,"TEŞEKKÜR BELGESİ ALT SINIRI",null,null,{"$f":"IF(NOTLARIM!H8=\"\",\"\",NOTLARIM!H8)","v":70},null,null,"Ağırlıklı Notlar Top.",null,null,null,{"$f":"IF(NOTLARIM!O8=\"\",\"\",NOTLARIM!O8)","v":0},{"$f":"IF(NOTLARIM!P8=\"\",\"\",NOTLARIM!P8)","v":0},{"$f":"IF(NOTLARIM!Q8=\"\",\"\",NOTLARIM!Q8)","v":0},null,{"$f":"IF(NOTLARIM!S8=\"\",\"\",NOTLARIM!S8)","v":""},{"$f":"IF(NOTLARIM!T8=\"\",\"\",NOTLARIM!T8)","v":""},null,"YIL SONU",null,{"$f":"IF(NOTLARIM!X8=\"\",\"\",NOTLARIM!X8)","v":""},{"$f":"IF(NOTLARIM!Y8=\"\",\"\",NOTLARIM!Y8)","v":""},{"$f":"IF(NOTLARIM!Z8=\"\",\"\",NOTLARIM!Z8)","v":""},{"$f":"IF(NOTLARIM!AA8=\"\",\"\",NOTLARIM!AA8)","v":""},{"$f":"IF(NOTLARIM!AB8=\"\",\"\",NOTLARIM!AB8)","v":""},{"$f":"IF(NOTLARIM!AC8=\"\",\"\",NOTLARIM!AC8)","v":""},{"$f":"IF(NOTLARIM!AD8=\"\",\"\",NOTLARIM!AD8)","v":""},{"$f":"IF(NOTLARIM!AE8=\"\",\"\",NOTLARIM!AE8)","v":""},{"$f":"IF(NOTLARIM!AF8=\"\",\"\",NOTLARIM!AF8)","v":""},{"$f":"IF(NOTLARIM!AG8=\"\",\"\",NOTLARIM!AG8)","v":""},{"$f":"IF(NOTLARIM!AH8=\"\",\"\",NOTLARIM!AH8)","v":""},{"$f":"IF(NOTLARIM!AI8=\"\",\"\",NOTLARIM!AI8)","v":""}]
[null,null,null,null,"TAKDİR BELGESİ ALT SINIRI",null,null,{"$f":"IF(NOTLARIM!H9=\"\",\"\",NOTLARIM!H9)","v":85},null,null,"Başarı Puanı",null,null,null,{"$f":"IF(NOTLARIM!O9=\"\",\"\",NOTLARIM!O9)","v":""},{"$f":"IF(NOTLARIM!P9=\"\",\"\",NOTLARIM!P9)","v":""},{"$f":"IF(NOTLARIM!Q9=\"\",\"\",NOTLARIM!Q9)","v":""},null,{"$f":"IF(NOTLARIM!S9=\"\",\"\",NOTLARIM!S9)","v":""},{"$f":"IF(NOTLARIM!T9=\"\",\"\",NOTLARIM!T9)","v":""},null,null,null,{"$f":"IF(NOTLARIM!X9=\"\",\"\",NOTLARIM!X9)","v":""},{"$f":"IF(NOTLARIM!Y9=\"\",\"\",NOTLARIM!Y9)","v":""},{"$f":"IF(NOTLARIM!Z9=\"\",\"\",NOTLARIM!Z9)","v":""},{"$f":"IF(NOTLARIM!AA9=\"\",\"\",NOTLARIM!AA9)","v":""},{"$f":"IF(NOTLARIM!AB9=\"\",\"\",NOTLARIM!AB9)","v":""},{"$f":"IF(NOTLARIM!AC9=\"\",\"\",NOTLARIM!AC9)","v":""},{"$f":"IF(NOTLARIM!AD9=\"\",\"\",NOTLARIM!AD9)","v":""},{"$f":"IF(NOTLARIM!AE9=\"\",\"\",NOTLARIM!AE9)","v":""},{"$f":"IF(NOTLARIM!AF9=\"\",\"\",NOTLARIM!AF9)","v":""},{"$f":"IF(NOTLARIM!AG9=\"\",\"\",NOTLARIM!AG9)","v":""},{"$f":"IF(NOTLARIM!AH9=\"\",\"\",NOTLARIM!AH9)","v":""},{"$f":"IF(NOTLARIM!AI9=\"\",\"\",NOTLARIM!AI9)","v":""}]
[]
[null,null,null,null,null,null,null,{"$f":"SUM(H14:H33)","v":0},"1.DÖNEM",null,null,null,null,null,null,null,null,null,null,null,"2.DÖNEM",null,null,null,null,null,null,null,null,null,null,null,null,"YILSONU PN. ORT.","YIL SONU NOTU"]
[null,null,null,null,null,null,null,null,"YAZILILAR",null,null,null,null,"SÖZLÜLER",null,null,null,null,"PN. ORT.","NOT ORT.","YAZILILAR",null,null,null,null,"SÖZLÜLER",null,null,null,null,"ÖD. NOT","PN. ORT.","NOT ORT."]
[null,null,null,null,"SN"," BRJ.","DERSLER","H.D.S.",1,2,3,4,5,1,2,3,4,5,null,null,1,2,3,4,5,1,2,3,4,5]
[null,null,null,null,1,{"$f":"IF(NOTLARIM!F14=\"\",\"\",NOTLARIM!F14)","v":""},{"$f":"IF(NOTLARIM!G14=\"\",\"\",NOTLARIM!G14)","v":""},{"$f":"IF(NOTLARIM!H14=\"\",\"\",NOTLARIM!H14)","v":""},{"$f":"IF(NOTLARIM!I14=\"\",\"\",NOTLARIM!I14)","v":""},{"$f":"IF(NOTLARIM!J14=\"\",\"\",NOTLARIM!J14)","v":""},{"$f":"IF(NOTLARIM!K14=\"\",\"\",NOTLARIM!K14)","v":""},{"$f":"IF(NOTLARIM!L14=\"\",\"\",NOTLARIM!L14)","v":""},{"$f":"IF(NOTLARIM!M14=\"\",\"\",NOTLARIM!M14)","v":""},{"$f":"IF(NOTLARIM!N14=\"\",\"\",NOTLARIM!N14)","v":""},{"$f":"IF(NOTLARIM!O14=\"\",\"\",NOTLARIM!O14)","v":""},{"$f":"IF(NOTLARIM!P14=\"\",\"\",NOTLARIM!P14)","v":""},{"$f":"IF(NOTLARIM!Q14=\"\",\"\",NOTLARIM!Q14)","v":""},{"$f":"IF(NOTLARIM!R14=\"\",\"\",NOTLARIM!R14)","v":""},{"$f":"IF(NOTLARIM!S14=\"\",\"\",NOTLARIM!S14)","v":""},{"$f":"IF(NOTLARIM!T14=\"\",\"\",NOTLARIM!T14)","v":""},{"$f":"IF(NOTLARIM!U14=\"\",\"\",NOTLARIM!U14)","v":""},{"$f":"IF(NOTLARIM!V14=\"\",\"\",NOTLARIM!V14)","v":""},{"$f":"IF(NOTLARIM!W14=\"\",\"\",NOTLARIM!W14)","v":""},{"$f":"IF(NOTLARIM!X14=\"\",\"\",NOTLARIM!X14)","v":""},{"$f":"IF(NOTLARIM!Y14=\"\",\"\",NOTLARIM!Y14)","v":""},{"$f":"IF(NOTLARIM!Z14=\"\",\"\",NOTLARIM!Z14)","v":""},{"$f":"IF(NOTLARIM!AA14=\"\",\"\",NOTLARIM!AA14)","v":""},{"$f":"IF(NOTLARIM!AB14=\"\",\"\",NOTLARIM!AB14)","v":""},{"$f":"IF(NOTLARIM!AC14=\"\",\"\",NOTLARIM!AC14)","v":""},{"$f":"IF(NOTLARIM!AD14=\"\",\"\",NOTLARIM!AD14)","v":""},{"$f":"IF(NOTLARIM!AE14=\"\",\"\",NOTLARIM!AE14)","v":""},{"$f":"IF(NOTLARIM!AF14=\"\",\"\",NOTLARIM!AF14)","v":""},{"$f":"IF(NOTLARIM!AG14=\"\",\"\",NOTLARIM!AG14)","v":""},{"$f":"IF(NOTLARIM!AH14=\"\",\"\",NOTLARIM!AH14)","v":""},{"$f":"IF(NOTLARIM!AI14=\"\",\"\",NOTLARIM!AI14)","v":""}]
[null,null,null,null,2,{"$f":"IF(NOTLARIM!F15=\"\",\"\",NOTLARIM!F15)","v":""},{"$f":"IF(NOTLARIM!G15=\"\",\"\",NOTLARIM!G15)","v":""},{"$f":"IF(NOTLARIM!H15=\"\",\"\",NOTLARIM!H15)","v":""},{"$f":"IF(NOTLARIM!I15=\"\",\"\",NOTLARIM!I15)","v":""},{"$f":"IF(NOTLARIM!J15=\"\",\"\",NOTLARIM!J15)","v":""},{"$f":"IF(NOTLARIM!K15=\"\",\"\",NOTLARIM!K15)","v":""},{"$f":"IF(NOTLARIM!L15=\"\",\"\",NOTLARIM!L15)","v":""},{"$f":"IF(NOTLARIM!M15=\"\",\"\",NOTLARIM!M15)","v":""},{"$f":"IF(NOTLARIM!N15=\"\",\"\",NOTLARIM!N15)","v":""},{"$f":"IF(NOTLARIM!O15=\"\",\"\",NOTLARIM!O15)","v":""},{"$f":"IF(NOTLARIM!P15=\"\",\"\",NOTLARIM!P15)","v":""},{"$f":"IF(NOTLARIM!Q15=\"\",\"\",NOTLARIM!Q15)","v":""},{"$f":"IF(NOTLARIM!R15=\"\",\"\",NOTLARIM!R15)","v":""},{"$f":"IF(NOTLARIM!S15=\"\",\"\",NOTLARIM!S15)","v":""},{"$f":"IF(NOTLARIM!T15=\"\",\"\",NOTLARIM!T15)","v":""},{"$f":"IF(NOTLARIM!U15=\"\",\"\",NOTLARIM!U15)","v":""},{"$f":"IF(NOTLARIM!V15=\"\",\"\",NOTLARIM!V15)","v":""},{"$f":"IF(NOTLARIM!W15=\"\",\"\",NOTLARIM!W15)","v":""},{"$f":"IF(NOTLARIM!X15=\"\",\"\",NOTLARIM!X15)","v":""},{"$f":"IF(NOTLARIM!Y15=\"\",\"\",NOTLARIM!Y15)","v":""},{"$f":"IF(NOTLARIM!Z15=\"\",\"\",NOTLARIM!Z15)","v":""},{"$f":"IF(NOTLARIM!AA15=\"\",\"\",NOTLARIM!AA15)","v":""},{"$f":"IF(NOTLARIM!AB15=\"\",\"\",NOTLARIM!AB15)","v":""},{"$f":"IF(NOTLARIM!AC15=\"\",\"\",NOTLARIM!AC15)","v":""},{"$f":"IF(NOTLARIM!AD15=\"\",\"\",NOTLARIM!AD15)","v":""},{"$f":"IF(NOTLARIM!AE15=\"\",\"\",NOTLARIM!AE15)","v":""},{"$f":"IF(NOTLARIM!AF15=\"\",\"\",NOTLARIM!AF15)","v":""},{"$f":"IF(NOTLARIM!AG15=\"\",\"\",NOTLARIM!AG15)","v":""},{"$f":"IF(NOTLARIM!AH15=\"\",\"\",NOTLARIM!AH15)","v":""},{"$f":"IF(NOTLARIM!AI15=\"\",\"\",NOTLARIM!AI15)","v":""}]
[null,null,null,null,3,{"$f":"IF(NOTLARIM!F16=\"\",\"\",NOTLARIM!F16)","v":""},{"$f":"IF(NOTLARIM!G16=\"\",\"\",NOTLARIM!G16)","v":""},{"$f":"IF(NOTLARIM!H16=\"\",\"\",NOTLARIM!H16)","v":""},{"$f":"IF(NOTLARIM!I16=\"\",\"\",NOTLARIM!I16)","v":""},{"$f":"IF(NOTLARIM!J16=\"\",\"\",NOTLARIM!J16)","v":""},{"$f":"IF(NOTLARIM!K16=\"\",\"\",NOTLARIM!K16)","v":""},{"$f":"IF(NOTLARIM!L16=\"\",\"\",NOTLARIM!L16)","v":""},{"$f":"IF(NOTLARIM!M16=\"\",\"\",NOTLARIM!M16)","v":""},{"$f":"IF(NOTLARIM!N16=\"\",\"\",NOTLARIM!N16)","v":""},{"$f":"IF(NOTLARIM!O16=\"\",\"\",NOTLARIM!O16)","v":""},{"$f":"IF(NOTLARIM!P16=\"\",\"\",NOTLARIM!P16)","v":""},{"$f":"IF(NOTLARIM!Q16=\"\",\"\",NOTLARIM!Q16)","v":""},{"$f":"IF(NOTLARIM!R16=\"\",\"\",NOTLARIM!R16)","v":""},{"$f":"IF(NOTLARIM!S16=\"\",\"\",NOTLARIM!S16)","v":""},{"$f":"IF(NOTLARIM!T16=\"\",\"\",NOTLARIM!T16)","v":""},{"$f":"IF(NOTLARIM!U16=\"\",\"\",NOTLARIM!U16)","v":""},{"$f":"IF(NOTLARIM!V16=\"\",\"\",NOTLARIM!V16)","v":""},{"$f":"IF(NOTLARIM!W16=\"\",\"\",NOTLARIM!W16)","v":""},{"$f":"IF(NOTLARIM!X16=\"\",\"\",NOTLARIM!X16)","v":""},{"$f":"IF(NOTLARIM!Y16=\"\",\"\",NOTLARIM!Y16)","v":""},{"$f":"IF(NOTLARIM!Z16=\"\",\"\",NOTLARIM!Z16)","v":""},{"$f":"IF(NOTLARIM!AA16=\"\",\"\",NOTLARIM!AA16)","v":""},{"$f":"IF(NOTLARIM!AB16=\"\",\"\",NOTLARIM!AB16)","v":""},{"$f":"IF(NOTLARIM!AC16=\"\",\"\",NOTLARIM!AC16)","v":""},{"$f":"IF(NOTLARIM!AD16=\"\",\"\",NOTLARIM!AD16)","v":""},{"$f":"IF(NOTLARIM!AE16=\"\",\"\",NOTLARIM!AE16)","v":""},{"$f":"IF(NOTLARIM!AF16=\"\",\"\",NOTLARIM!AF16)","v":""},{"$f":"IF(NOTLARIM!AG16=\"\",\"\",NOTLARIM!AG16)","v":""},{"$f":"IF(NOTLARIM!AH16=\"\",\"\",NOTLARIM!AH16)","v":""},{"$f":"IF(NOTLARIM!AI16=\"\",\"\",NOTLARIM!AI16)","v":""}]
[null,null,null,null,4,{"$f":"IF(NOTLARIM!F17=\"\",\"\",NOTLARIM!F17)","v":""},{"$f":"IF(NOTLARIM!G17=\"\",\"\",NOTLARIM!G17)","v":""},{"$f":"IF(NOTLARIM!H17=\"\",\"\",NOTLARIM!H17)","v":""},{"$f":"IF(NOTLARIM!I17=\"\",\"\",NOTLARIM!I17)","v":""},{"$f":"IF(NOTLARIM!J17=\"\",\"\",NOTLARIM!J17)","v":""},{"$f":"IF(NOTLARIM!K17=\"\",\"\",NOTLARIM!K17)","v":""},{"$f":"IF(NOTLARIM!L17=\"\",\"\",NOTLARIM!L17)","v":""},{"$f":"IF(NOTLARIM!M17=\"\",\"\",NOTLARIM!M17)","v":""},{"$f":"IF(NOTLARIM!N17=\"\",\"\",NOTLARIM!N17)","v":""},{"$f":"IF(NOTLARIM!O17=\"\",\"\",NOTLARIM!O17)","v":""},{"$f":"IF(NOTLARIM!P17=\"\",\"\",NOTLARIM!P17)","v":""},{"$f":"IF(NOTLARIM!Q17=\"\",\"\",NOTLARIM!Q17)","v":""},{"$f":"IF(NOTLARIM!R17=\"\",\"\",NOTLARIM!R17)","v":""},{"$f":"IF(NOTLARIM!S17=\"\",\"\",NOTLARIM!S17)","v":""},{"$f":"IF(NOTLARIM!T17=\"\",\"\",NOTLARIM!T17)","v":""},{"$f":"IF(NOTLARIM!U17=\"\",\"\",NOTLARIM!U17)","v":""},{"$f":"IF(NOTLARIM!V17=\"\",\"\",NOTLARIM!V17)","v":""},{"$f":"IF(NOTLARIM!W17=\"\",\"\",NOTLARIM!W17)","v":""},{"$f":"IF(NOTLARIM!X17=\"\",\"\",NOTLARIM!X17)","v":""},{"$f":"IF(NOTLARIM!Y17=\"\",\"\",NOTLARIM!Y17)","v":""},{"$f":"IF(NOTLARIM!Z17=\"\",\"\",NOTLARIM!Z17)","v":""},{"$f":"IF(NOTLARIM!AA17=\"\",\"\",NOTLARIM!AA17)","v":""},{"$f":"IF(NOTLARIM!AB17=\"\",\"\",NOTLARIM!AB17)","v":""},{"$f":"IF(NOTLARIM!AC17=\"\",\"\",NOTLARIM!AC17)","v":""},{"$f":"IF(NOTLARIM!AD17=\"\",\"\",NOTLARIM!AD17)","v":""},{"$f":"IF(NOTLARIM!AE17=\"\",\"\",NOTLARIM!AE17)","v":""},{"$f":"IF(NOTLARIM!AF17=\"\",\"\",NOTLARIM!AF17)","v":""},{"$f":"IF(NOTLARIM!AG17=\"\",\"\",NOTLARIM!AG17)","v":""},{"$f":"IF(NOTLARIM!AH17=\"\",\"\",NOTLARIM!AH17)","v":""},{"$f":"IF(NOTLARIM!AI17=\"\",\"\",NOTLARIM!AI17)","v":""}]
[null,null,null,null,5,{"$f":"IF(NOTLARIM!F18=\"\",\"\",NOTLARIM!F18)","v":""},{"$f":"IF(NOTLARIM!G18=\"\",\"\",NOTLARIM!G18)","v":""},{"$f":"IF(NOTLARIM!H18=\"\",\"\",NOTLARIM!H18)","v":""},{"$f":"IF(NOTLARIM!I18=\"\",\"\",NOTLARIM!I18)","v":""},{"$f":"IF(NOTLARIM!J18=\"\",\"\",NOTLARIM!J18)","v":""},{"$f":"IF(NOTLARIM!K18=\"\",\"\",NOTLARIM!K18)","v":""},{"$f":"IF(NOTLARIM!L18=\"\",\"\",NOTLARIM!L18)","v":""},{"$f":"IF(NOTLARIM!M18=\"\",\"\",NOTLARIM!M18)","v":""},{"$f":"IF(NOTLARIM!N18=\"\",\"\",NOTLARIM!N18)","v":""},{"$f":"IF(NOTLARIM!O18=\"\",\"\",NOTLARIM!O18)","v":""},{"$f":"IF(NOTLARIM!P18=\"\",\"\",NOTLARIM!P18)","v":""},{"$f":"IF(NOTLARIM!Q18=\"\",\"\",NOTLARIM!Q18)","v":""},{"$f":"IF(NOTLARIM!R18=\"\",\"\",NOTLARIM!R18)","v":""},{"$f":"IF(NOTLARIM!S18=\"\",\"\",NOTLARIM!S18)","v":""},{"$f":"IF(NOTLARIM!T18=\"\",\"\",NOTLARIM!T18)","v":""},{"$f":"IF(NOTLARIM!U18=\"\",\"\",NOTLARIM!U18)","v":""},{"$f":"IF(NOTLARIM!V18=\"\",\"\",NOTLARIM!V18)","v":""},{"$f":"IF(NOTLARIM!W18=\"\",\"\",NOTLARIM!W18)","v":""},{"$f":"IF(NOTLARIM!X18=\"\",\"\",NOTLARIM!X18)","v":""},{"$f":"IF(NOTLARIM!Y18=\"\",\"\",NOTLARIM!Y18)","v":""},{"$f":"IF(NOTLARIM!Z18=\"\",\"\",NOTLARIM!Z18)","v":""},{"$f":"IF(NOTLARIM!AA18=\"\",\"\",NOTLARIM!AA18)","v":""},{"$f":"IF(NOTLARIM!AB18=\"\",\"\",NOTLARIM!AB18)","v":""},{"$f":"IF(NOTLARIM!AC18=\"\",\"\",NOTLARIM!AC18)","v":""},{"$f":"IF(NOTLARIM!AD18=\"\",\"\",NOTLARIM!AD18)","v":""},{"$f":"IF(NOTLARIM!AE18=\"\",\"\",NOTLARIM!AE18)","v":""},{"$f":"IF(NOTLARIM!AF18=\"\",\"\",NOTLARIM!AF18)","v":""},{"$f":"IF(NOTLARIM!AG18=\"\",\"\",NOTLARIM!AG18)","v":""},{"$f":"IF(NOTLARIM!AH18=\"\",\"\",NOTLARIM!AH18)","v":""},{"$f":"IF(NOTLARIM!AI18=\"\",\"\",NOTLARIM!AI18)","v":""}]
[null,null,null,null,6,{"$f":"IF(NOTLARIM!F19=\"\",\"\",NOTLARIM!F19)","v":""},{"$f":"IF(NOTLARIM!G19=\"\",\"\",NOTLARIM!G19)","v":""},{"$f":"IF(NOTLARIM!H19=\"\",\"\",NOTLARIM!H19)","v":""},{"$f":"IF(NOTLARIM!I19=\"\",\"\",NOTLARIM!I19)","v":""},{"$f":"IF(NOTLARIM!J19=\"\",\"\",NOTLARIM!J19)","v":""},{"$f":"IF(NOTLARIM!K19=\"\",\"\",NOTLARIM!K19)","v":""},{"$f":"IF(NOTLARIM!L19=\"\",\"\",NOTLARIM!L19)","v":""},{"$f":"IF(NOTLARIM!M19=\"\",\"\",NOTLARIM!M19)","v":""},{"$f":"IF(NOTLARIM!N19=\"\",\"\",NOTLARIM!N19)","v":""},{"$f":"IF(NOTLARIM!O19=\"\",\"\",NOTLARIM!O19)","v":""},{"$f":"IF(NOTLARIM!P19=\"\",\"\",NOTLARIM!P19)","v":""},{"$f":"IF(NOTLARIM!Q19=\"\",\"\",NOTLARIM!Q19)","v":""},{"$f":"IF(NOTLARIM!R19=\"\",\"\",NOTLARIM!R19)","v":""},{"$f":"IF(NOTLARIM!S19=\"\",\"\",NOTLARIM!S19)","v":""},{"$f":"IF(NOTLARIM!T19=\"\",\"\",NOTLARIM!T19)","v":""},{"$f":"IF(NOTLARIM!U19=\"\",\"\",NOTLARIM!U19)","v":""},{"$f":"IF(NOTLARIM!V19=\"\",\"\",NOTLARIM!V19)","v":""},{"$f":"IF(NOTLARIM!W19=\"\",\"\",NOTLARIM!W19)","v":""},{"$f":"IF(NOTLARIM!X19=\"\",\"\",NOTLARIM!X19)","v":""},{"$f":"IF(NOTLARIM!Y19=\"\",\"\",NOTLARIM!Y19)","v":""},{"$f":"IF(NOTLARIM!Z19=\"\",\"\",NOTLARIM!Z19)","v":""},{"$f":"IF(NOTLARIM!AA19=\"\",\"\",NOTLARIM!AA19)","v":""},{"$f":"IF(NOTLARIM!AB19=\"\",\"\",NOTLARIM!AB19)","v":""},{"$f":"IF(NOTLARIM!AC19=\"\",\"\",NOTLARIM!AC19)","v":""},{"$f":"IF(NOTLARIM!AD19=\"\",\"\",NOTLARIM!AD19)","v":""},{"$f":"IF(NOTLARIM!AE19=\"\",\"\",NOTLARIM!AE19)","v":""},{"$f":"IF(NOTLARIM!AF19=\"\",\"\",NOTLARIM!AF19)","v":""},{"$f":"IF(NOTLARIM!AG19=\"\",\"\",NOTLARIM!AG19)","v":""},{"$f":"IF(NOTLARIM!AH19=\"\",\"\",NOTLARIM!AH19)","v":""},{"$f":"IF(NOTLARIM!AI19=\"\",\"\",NOTLARIM!AI19)","v":""}]
[null,null,null,null,7,{"$f":"IF(NOTLARIM!F20=\"\",\"\",NOTLARIM!F20)","v":""},{"$f":"IF(NOTLARIM!G20=\"\",\"\",NOTLARIM!G20)","v":""},{"$f":"IF(NOTLARIM!H20=\"\",\"\",NOTLARIM!H20)","v":""},{"$f":"IF(NOTLARIM!I20=\"\",\"\",NOTLARIM!I20)","v":""},{"$f":"IF(NOTLARIM!J20=\"\",\"\",NOTLARIM!J20)","v":""},{"$f":"IF(NOTLARIM!K20=\"\",\"\",NOTLARIM!K20)","v":""},{"$f":"IF(NOTLARIM!L20=\"\",\"\",NOTLARIM!L20)","v":""},{"$f":"IF(NOTLARIM!M20=\"\",\"\",NOTLARIM!M20)","v":""},{"$f":"IF(NOTLARIM!N20=\"\",\"\",NOTLARIM!N20)","v":""},{"$f":"IF(NOTLARIM!O20=\"\",\"\",NOTLARIM!O20)","v":""},{"$f":"IF(NOTLARIM!P20=\"\",\"\",NOTLARIM!P20)","v":""},{"$f":"IF(NOTLARIM!Q20=\"\",\"\",NOTLARIM!Q20)","v":""},{"$f":"IF(NOTLARIM!R20=\"\",\"\",NOTLARIM!R20)","v":""},{"$f":"IF(NOTLARIM!S20=\"\",\"\",NOTLARIM!S20)","v":""},{"$f":"IF(NOTLARIM!T20=\"\",\"\",NOTLARIM!T20)","v":""},{"$f":"IF(NOTLARIM!U20=\"\",\"\",NOTLARIM!U20)","v":""},{"$f":"IF(NOTLARIM!V20=\"\",\"\",NOTLARIM!V20)","v":""},{"$f":"IF(NOTLARIM!W20=\"\",\"\",NOTLARIM!W20)","v":""},{"$f":"IF(NOTLARIM!X20=\"\",\"\",NOTLARIM!X20)","v":""},{"$f":"IF(NOTLARIM!Y20=\"\",\"\",NOTLARIM!Y20)","v":""},{"$f":"IF(NOTLARIM!Z20=\"\",\"\",NOTLARIM!Z20)","v":""},{"$f":"IF(NOTLARIM!AA20=\"\",\"\",NOTLARIM!AA20)","v":""},{"$f":"IF(NOTLARIM!AB20=\"\",\"\",NOTLARIM!AB20)","v":""},{"$f":"IF(NOTLARIM!AC20=\"\",\"\",NOTLARIM!AC20)","v":""},{"$f":"IF(NOTLARIM!AD20=\"\",\"\",NOTLARIM!AD20)","v":""},{"$f":"IF(NOTLARIM!AE20=\"\",\"\",NOTLARIM!AE20)","v":""},{"$f":"IF(NOTLARIM!AF20=\"\",\"\",NOTLARIM!AF20)","v":""},{"$f":"IF(NOTLARIM!AG20=\"\",\"\",NOTLARIM!AG20)","v":""},{"$f":"IF(NOTLARIM!AH20=\"\",\"\",NOTLARIM!AH20)","v":""},{"$f":"IF(NOTLARIM!AI20=\"\",\"\",NOTLARIM!AI20)","v":""}]
[null,null,null,null,8,{"$f":"IF(NOTLARIM!F21=\"\",\"\",NOTLARIM!F21)","v":""},{"$f":"IF(NOTLARIM!G21=\"\",\"\",NOTLARIM!G21)","v":""},{"$f":"IF(NOTLARIM!H21=\"\",\"\",NOTLARIM!H21)","v":""},{"$f":"IF(NOTLARIM!I21=\"\",\"\",NOTLARIM!I21)","v":""},{"$f":"IF(NOTLARIM!J21=\"\",\"\",NOTLARIM!J21)","v":""},{"$f":"IF(NOTLARIM!K21=\"\",\"\",NOTLARIM!K21)","v":""},{"$f":"IF(NOTLARIM!L21=\"\",\"\",NOTLARIM!L21)","v":""},{"$f":"IF(NOTLARIM!M21=\"\",\"\",NOTLARIM!M21)","v":""},{"$f":"IF(NOTLARIM!N21=\"\",\"\",NOTLARIM!N21)","v":""},{"$f":"IF(NOTLARIM!O21=\"\",\"\",NOTLARIM!O21)","v":""},{"$f":"IF(NOTLARIM!P21=\"\",\"\",NOTLARIM!P21)","v":""},{"$f":"IF(NOTLARIM!Q21=\"\",\"\",NOTLARIM!Q21)","v":""},{"$f":"IF(NOTLARIM!R21=\"\",\"\",NOTLARIM!R21)","v":""},{"$f":"IF(NOTLARIM!S21=\"\",\"\",NOTLARIM!S21)","v":""},{"$f":"IF(NOTLARIM!T21=\"\",\"\",NOTLARIM!T21)","v":""},{"$f":"IF(NOTLARIM!U21=\"\",\"\",NOTLARIM!U21)","v":""},{"$f":"IF(NOTLARIM!V21=\"\",\"\",NOTLARIM!V21)","v":""},{"$f":"IF(NOTLARIM!W21=\"\",\"\",NOTLARIM!W21)","v":""},{"$f":"IF(NOTLARIM!X21=\"\",\"\",NOTLARIM!X21)","v":""},{"$f":"IF(NOTLARIM!Y21=\"\",\"\",NOTLARIM!Y21)","v":""},{"$f":"IF(NOTLARIM!Z21=\"\",\"\",NOTLARIM!Z21)","v":""},{"$f":"IF(NOTLARIM!AA21=\"\",\"\",NOTLARIM!AA21)","v":""},{"$f":"IF(NOTLARIM!AB21=\"\",\"\",NOTLARIM!AB21)","v":""},{"$f":"IF(NOTLARIM!AC21=\"\",\"\",NOTLARIM!AC21)","v":""},{"$f":"IF(NOTLARIM!AD21=\"\",\"\",NOTLARIM!AD21)","v":""},{"$f":"IF(NOTLARIM!AE21=\"\",\"\",NOTLARIM!AE21)","v":""},{"$f":"IF(NOTLARIM!AF21=\"\",\"\",NOTLARIM!AF21)","v":""},{"$f":"IF(NOTLARIM!AG21=\"\",\"\",NOTLARIM!AG21)","v":""},{"$f":"IF(NOTLARIM!AH21=\"\",\"\",NOTLARIM!AH21)","v":""},{"$f":"IF(NOTLARIM!AI21=\"\",\"\",NOTLARIM!AI21)","v":""}]
[null,null,null,null,9,{"$f":"IF(NOTLARIM!F22=\"\",\"\",NOTLARIM!F22)","v":""},{"$f":"IF(NOTLARIM!G22=\"\",\"\",NOTLARIM!G22)","v":""},{"$f":"IF(NOTLARIM!H22=\"\",\"\",NOTLARIM!H22)","v":""},{"$f":"IF(NOTLARIM!I22=\"\",\"\",NOTLARIM!I22)","v":""},{"$f":"IF(NOTLARIM!J22=\"\",\"\",NOTLARIM!J22)","v":""},{"$f":"IF(NOTLARIM!K22=\"\",\"\",NOTLARIM!K22)","v":""},{"$f":"IF(NOTLARIM!L22=\"\",\"\",NOTLARIM!L22)","v":""},{"$f":"IF(NOTLARIM!M22=\"\",\"\",NOTLARIM!M22)","v":""},{"$f":"IF(NOTLARIM!N22=\"\",\"\",NOTLARIM!N22)","v":""},{"$f":"IF(NOTLARIM!O22=\"\",\"\",NOTLARIM!O22)","v":""},{"$f":"IF(NOTLARIM!P22=\"\",\"\",NOTLARIM!P22)","v":""},{"$f":"IF(NOTLARIM!Q22=\"\",\"\",NOTLARIM!Q22)","v":""},{"$f":"IF(NOTLARIM!R22=\"\",\"\",NOTLARIM!R22)","v":""},{"$f":"IF(NOTLARIM!S22=\"\",\"\",NOTLARIM!S22)","v":""},{"$f":"IF(NOTLARIM!T22=\"\",\"\",NOTLARIM!T22)","v":""},{"$f":"IF(NOTLARIM!U22=\"\",\"\",NOTLARIM!U22)","v":""},{"$f":"IF(NOTLARIM!V22=\"\",\"\",NOTLARIM!V22)","v":""},{"$f":"IF(NOTLARIM!W22=\"\",\"\",NOTLARIM!W22)","v":""},{"$f":"IF(NOTLARIM!X22=\"\",\"\",NOTLARIM!X22)","v":""},{"$f":"IF(NOTLARIM!Y22=\"\",\"\",NOTLARIM!Y22)","v":""},{"$f":"IF(NOTLARIM!Z22=\"\",\"\",NOTLARIM!Z22)","v":""},{"$f":"IF(NOTLARIM!AA22=\"\",\"\",NOTLARIM!AA22)","v":""},{"$f":"IF(NOTLARIM!AB22=\"\",\"\",NOTLARIM!AB22)","v":""},{"$f":"IF(NOTLARIM!AC22=\"\",\"\",NOTLARIM!AC22)","v":""},{"$f":"IF(NOTLARIM!AD22=\"\",\"\",NOTLARIM!AD22)","v":""},{"$f":"IF(NOTLARIM!AE22=\"\",\"\",NOTLARIM!AE22)","v":""},{"$f":"IF(NOTLARIM!AF22=\"\",\"\",NOTLARIM!AF22)","v":""},{"$f":"IF(NOTLARIM!AG22=\"\",\"\",NOTLARIM!AG22)","v":""},{"$f":"IF(NOTLARIM!AH22=\"\",\"\",NOTLARIM!AH22)","v":""},{"$f":"IF(NOTLARIM!AI22=\"\",\"\",NOTLARIM!AI22)","v":""}]
[null,null,null,null,10,{"$f":"IF(NOTLARIM!F23=\"\",\"\",NOTLARIM!F23)","v":""},{"$f":"IF(NOTLARIM!G23=\"\",\"\",NOTLARIM!G23)","v":""},{"$f":"IF(NOTLARIM!H23=\"\",\"\",NOTLARIM!H23)","v":""},{"$f":"IF(NOTLARIM!I23=\"\",\"\",NOTLARIM!I23)","v":""},{"$f":"IF(NOTLARIM!J23=\"\",\"\",NOTLARIM!J23)","v":""},{"$f":"IF(NOTLARIM!K23=\"\",\"\",NOTLARIM!K23)","v":""},{"$f":"IF(NOTLARIM!L23=\"\",\"\",NOTLARIM!L23)","v":""},{"$f":"IF(NOTLARIM!M23=\"\",\"\",NOTLARIM!M23)","v":""},{"$f":"IF(NOTLARIM!N23=\"\",\"\",NOTLARIM!N23)","v":""},{"$f":"IF(NOTLARIM!O23=\"\",\"\",NOTLARIM!O23)","v":""},{"$f":"IF(NOTLARIM!P23=\"\",\"\",NOTLARIM!P23)","v":""},{"$f":"IF(NOTLARIM!Q23=\"\",\"\",NOTLARIM!Q23)","v":""},{"$f":"IF(NOTLARIM!R23=\"\",\"\",NOTLARIM!R23)","v":""},{"$f":"IF(NOTLARIM!S23=\"\",\"\",NOTLARIM!S23)","v":""},{"$f":"IF(NOTLARIM!T23=\"\",\"\",NOTLARIM!T23)","v":""},{"$f":"IF(NOTLARIM!U23=\"\",\"\",NOTLARIM!U23)","v":""},{"$f":"IF(NOTLARIM!V23=\"\",\"\",NOTLARIM!V23)","v":""},{"$f":"IF(NOTLARIM!W23=\"\",\"\",NOTLARIM!W23)","v":""},{"$f":"IF(NOTLARIM!X23=\"\",\"\",NOTLARIM!X23)","v":""},{"$f":"IF(NOTLARIM!Y23=\"\",\"\",NOTLARIM!Y23)","v":""},{"$f":"IF(NOTLARIM!Z23=\"\",\"\",NOTLARIM!Z23)","v":""},{"$f":"IF(NOTLARIM!AA23=\"\",\"\",NOTLARIM!AA23)","v":""},{"$f":"IF(NOTLARIM!AB23=\"\",\"\",NOTLARIM!AB23)","v":""},{"$f":"IF(NOTLARIM!AC23=\"\",\"\",NOTLARIM!AC23)","v":""},{"$f":"IF(NOTLARIM!AD23=\"\",\"\",NOTLARIM!AD23)","v":""},{"$f":"IF(NOTLARIM!AE23=\"\",\"\",NOTLARIM!AE23)","v":""},{"$f":"IF(NOTLARIM!AF23=\"\",\"\",NOTLARIM!AF23)","v":""},{"$f":"IF(NOTLARIM!AG23=\"\",\"\",NOTLARIM!AG23)","v":""},{"$f":"IF(NOTLARIM!AH23=\"\",\"\",NOTLARIM!AH23)","v":""},{"$f":"IF(NOTLARIM!AI23=\"\",\"\",NOTLARIM!AI23)","v":""}]
[null,null,null,null,11,{"$f":"IF(NOTLARIM!F24=\"\",\"\",NOTLARIM!F24)","v":""},{"$f":"IF(NOTLARIM!G24=\"\",\"\",NOTLARIM!G24)","v":""},{"$f":"IF(NOTLARIM!H24=\"\",\"\",NOTLARIM!H24)","v":""},{"$f":"IF(NOTLARIM!I24=\"\",\"\",NOTLARIM!I24)","v":""},{"$f":"IF(NOTLARIM!J24=\"\",\"\",NOTLARIM!J24)","v":""},{"$f":"IF(NOTLARIM!K24=\"\",\"\",NOTLARIM!K24)","v":""},{"$f":"IF(NOTLARIM!L24=\"\",\"\",NOTLARIM!L24)","v":""},{"$f":"IF(NOTLARIM!M24=\"\",\"\",NOTLARIM!M24)","v":""},{"$f":"IF(NOTLARIM!N24=\"\",\"\",NOTLARIM!N24)","v":""},{"$f":"IF(NOTLARIM!O24=\"\",\"\",NOTLARIM!O24)","v":""},{"$f":"IF(NOTLARIM!P24=\"\",\"\",NOTLARIM!P24)","v":""},{"$f":"IF(NOTLARIM!Q24=\"\",\"\",NOTLARIM!Q24)","v":""},{"$f":"IF(NOTLARIM!R24=\"\",\"\",NOTLARIM!R24)","v":""},{"$f":"IF(NOTLARIM!S24=\"\",\"\",NOTLARIM!S24)","v":""},{"$f":"IF(NOTLARIM!T24=\"\",\"\",NOTLARIM!T24)","v":""},{"$f":"IF(NOTLARIM!U24=\"\",\"\",NOTLARIM!U24)","v":""},{"$f":"IF(NOTLARIM!V24=\"\",\"\",NOTLARIM!V24)","v":""},{"$f":"IF(NOTLARIM!W24=\"\",\"\",NOTLARIM!W24)","v":""},{"$f":"IF(NOTLARIM!X24=\"\",\"\",NOTLARIM!X24)","v":""},{"$f":"IF(NOTLARIM!Y24=\"\",\"\",NOTLARIM!Y24)","v":""},{"$f":"IF(NOTLARIM!Z24=\"\",\"\",NOTLARIM!Z24)","v":""},{"$f":"IF(NOTLARIM!AA24=\"\",\"\",NOTLARIM!AA24)","v":""},{"$f":"IF(NOTLARIM!AB24=\"\",\"\",NOTLARIM!AB24)","v":""},{"$f":"IF(NOTLARIM!AC24=\"\",\"\",NOTLARIM!AC24)","v":""},{"$f":"IF(NOTLARIM!AD24=\"\",\"\",NOTLARIM!AD24)","v":""},{"$f":"IF(NOTLARIM!AE24=\"\",\"\",NOTLARIM!AE24)","v":""},{"$f":"IF(NOTLARIM!AF24=\"\",\"\",NOTLARIM!AF24)","v":""},{"$f":"IF(NOTLARIM!AG24=\"\",\"\",NOTLARIM!AG24)","v":""},{"$f":"IF(NOTLARIM!AH24=\"\",\"\",NOTLARIM!AH24)","v":""},{"$f":"IF(NOTLARIM!AI24=\"\",\"\",NOTLARIM!AI24)","v":""}]
[null,null,null,null,12,{"$f":"IF(NOTLARIM!F25=\"\",\"\",NOTLARIM!F25)","v":""},{"$f":"IF(NOTLARIM!G25=\"\",\"\",NOTLARIM!G25)","v":""},{"$f":"IF(NOTLARIM!H25=\"\",\"\",NOTLARIM!H25)","v":""},{"$f":"IF(NOTLARIM!I25=\"\",\"\",NOTLARIM!I25)","v":""},{"$f":"IF(NOTLARIM!J25=\"\",\"\",NOTLARIM!J25)","v":""},{"$f":"IF(NOTLARIM!K25=\"\",\"\",NOTLARIM!K25)","v":""},{"$f":"IF(NOTLARIM!L25=\"\",\"\",NOTLARIM!L25)","v":""},{"$f":"IF(NOTLARIM!M25=\"\",\"\",NOTLARIM!M25)","v":""},{"$f":"IF(NOTLARIM!N25=\"\",\"\",NOTLARIM!N25)","v":""},{"$f":"IF(NOTLARIM!O25=\"\",\"\",NOTLARIM!O25)","v":""},{"$f":"IF(NOTLARIM!P25=\"\",\"\",NOTLARIM!P25)","v":""},{"$f":"IF(NOTLARIM!Q25=\"\",\"\",NOTLARIM!Q25)","v":""},{"$f":"IF(NOTLARIM!R25=\"\",\"\",NOTLARIM!R25)","v":""},{"$f":"IF(NOTLARIM!S25=\"\",\"\",NOTLARIM!S25)","v":""},{"$f":"IF(NOTLARIM!T25=\"\",\"\",NOTLARIM!T25)","v":""},{"$f":"IF(NOTLARIM!U25=\"\",\"\",NOTLARIM!U25)","v":""},{"$f":"IF(NOTLARIM!V25=\"\",\"\",NOTLARIM!V25)","v":""},{"$f":"IF(NOTLARIM!W25=\"\",\"\",NOTLARIM!W25)","v":""},{"$f":"IF(NOTLARIM!X25=\"\",\"\",NOTLARIM!X25)","v":""},{"$f":"IF(NOTLARIM!Y25=\"\",\"\",NOTLARIM!Y25)","v":""},{"$f":"IF(NOTLARIM!Z25=\"\",\"\",NOTLARIM!Z25)","v":""},{"$f":"IF(NOTLARIM!AA25=\"\",\"\",NOTLARIM!AA25)","v":""},{"$f":"IF(NOTLARIM!AB25=\"\",\"\",NOTLARIM!AB25)","v":""},{"$f":"IF(NOTLARIM!AC25=\"\",\"\",NOTLARIM!AC25)","v":""},{"$f":"IF(NOTLARIM!AD25=\"\",\"\",NOTLARIM!AD25)","v":""},{"$f":"IF(NOTLARIM!AE25=\"\",\"\",NOTLARIM!AE25)","v":""},{"$f":"IF(NOTLARIM!AF25=\"\",\"\",NOTLARIM!AF25)","v":""},{"$f":"IF(NOTLARIM!AG25=\"\",\"\",NOTLARIM!AG25)","v":""},{"$f":"IF(NOTLARIM!AH25=\"\",\"\",NOTLARIM!AH25)","v":""},{"$f":"IF(NOTLARIM!AI25=\"\",\"\",NOTLARIM!AI25)","v":""}]
[null,null,null,null,13,{"$f":"IF(NOTLARIM!F26=\"\",\"\",NOTLARIM!F26)","v":""},{"$f":"IF(NOTLARIM!G26=\"\",\"\",NOTLARIM!G26)","v":""},{"$f":"IF(NOTLARIM!H26=\"\",\"\",NOTLARIM!H26)","v":""},{"$f":"IF(NOTLARIM!I26=\"\",\"\",NOTLARIM!I26)","v":""},{"$f":"IF(NOTLARIM!J26=\"\",\"\",NOTLARIM!J26)","v":""},{"$f":"IF(NOTLARIM!K26=\"\",\"\",NOTLARIM!K26)","v":""},{"$f":"IF(NOTLARIM!L26=\"\",\"\",NOTLARIM!L26)","v":""},{"$f":"IF(NOTLARIM!M26=\"\",\"\",NOTLARIM!M26)","v":""},{"$f":"IF(NOTLARIM!N26=\"\",\"\",NOTLARIM!N26)","v":""},{"$f":"IF(NOTLARIM!O26=\"\",\"\",NOTLARIM!O26)","v":""},{"$f":"IF(NOTLARIM!P26=\"\",\"\",NOTLARIM!P26)","v":""},{"$f":"IF(NOTLARIM!Q26=\"\",\"\",NOTLARIM!Q26)","v":""},{"$f":"IF(NOTLARIM!R26=\"\",\"\",NOTLARIM!R26)","v":""},{"$f":"IF(NOTLARIM!S26=\"\",\"\",NOTLARIM!S26)","v":""},{"$f":"IF(NOTLARIM!T26=\"\",\"\",NOTLARIM!T26)","v":""},{"$f":"IF(NOTLARIM!U26=\"\",\"\",NOTLARIM!U26)","v":""},{"$f":"IF(NOTLARIM!V26=\"\",\"\",NOTLARIM!V26)","v":""},{"$f":"IF(NOTLARIM!W26=\"\",\"\",NOTLARIM!W26)","v":""},{"$f":"IF(NOTLARIM!X26=\"\",\"\",NOTLARIM!X26)","v":""},{"$f":"IF(NOTLARIM!Y26=\"\",\"\",NOTLARIM!Y26)","v":""},{"$f":"IF(NOTLARIM!Z26=\"\",\"\",NOTLARIM!Z26)","v":""},{"$f":"IF(NOTLARIM!AA26=\"\",\"\",NOTLARIM!AA26)","v":""},{"$f":"IF(NOTLARIM!AB26=\"\",\"\",NOTLARIM!AB26)","v":""},{"$f":"IF(NOTLARIM!AC26=\"\",\"\",NOTLARIM!AC26)","v":""},{"$f":"IF(NOTLARIM!AD26=\"\",\"\",NOTLARIM!AD26)","v":""},{"$f":"IF(NOTLARIM!AE26=\"\",\"\",NOTLARIM!AE26)","v":""},{"$f":"IF(NOTLARIM!AF26=\"\",\"\",NOTLARIM!AF26)","v":""},{"$f":"IF(NOTLARIM!AG26=\"\",\"\",NOTLARIM!AG26)","v":""},{"$f":"IF(NOTLARIM!AH26=\"\",\"\",NOTLARIM!AH26)","v":""},{"$f":"IF(NOTLARIM!AI26=\"\",\"\",NOTLARIM!AI26)","v":""}]
[null,null,null,null,14,{"$f":"IF(NOTLARIM!F27=\"\",\"\",NOTLARIM!F27)","v":""},{"$f":"IF(NOTLARIM!G27=\"\",\"\",NOTLARIM!G27)","v":""},{"$f":"IF(NOTLARIM!H27=\"\",\"\",NOTLARIM!H27)","v":""},{"$f":"IF(NOTLARIM!I27=\"\",\"\",NOTLARIM!I27)","v":""},{"$f":"IF(NOTLARIM!J27=\"\",\"\",NOTLARIM!J27)","v":""},{"$f":"IF(NOTLARIM!K27=\"\",\"\",NOTLARIM!K27)","v":""},{"$f":"IF(NOTLARIM!L27=\"\",\"\",NOTLARIM!L27)","v":""},{"$f":"IF(NOTLARIM!M27=\"\",\"\",NOTLARIM!M27)","v":""},{"$f":"IF(NOTLARIM!N27=\"\",\"\",NOTLARIM!N27)","v":""},{"$f":"IF(NOTLARIM!O27=\"\",\"\",NOTLARIM!O27)","v":""},{"$f":"IF(NOTLARIM!P27=\"\",\"\",NOTLARIM!P27)","v":""},{"$f":"IF(NOTLARIM!Q27=\"\",\"\",NOTLARIM!Q27)","v":""},{"$f":"IF(NOTLARIM!R27=\"\",\"\",NOTLARIM!R27)","v":""},{"$f":"IF(NOTLARIM!S27=\"\",\"\",NOTLARIM!S27)","v":""},{"$f":"IF(NOTLARIM!T27=\"\",\"\",NOTLARIM!T27)","v":""},{"$f":"IF(NOTLARIM!U27=\"\",\"\",NOTLARIM!U27)","v":""},{"$f":"IF(NOTLARIM!V27=\"\",\"\",NOTLARIM!V27)","v":""},{"$f":"IF(NOTLARIM!W27=\"\",\"\",NOTLARIM!W27)","v":""},{"$f":"IF(NOTLARIM!X27=\"\",\"\",NOTLARIM!X27)","v":""},{"$f":"IF(NOTLARIM!Y27=\"\",\"\",NOTLARIM!Y27)","v":""},{"$f":"IF(NOTLARIM!Z27=\"\",\"\",NOTLARIM!Z27)","v":""},{"$f":"IF(NOTLARIM!AA27=\"\",\"\",NOTLARIM!AA27)","v":""},{"$f":"IF(NOTLARIM!AB27=\"\",\"\",NOTLARIM!AB27)","v":""},{"$f":"IF(NOTLARIM!AC27=\"\",\"\",NOTLARIM!AC27)","v":""},{"$f":"IF(NOTLARIM!AD27=\"\",\"\",NOTLARIM!AD27)","v":""},{"$f":"IF(NOTLARIM!AE27=\"\",\"\",NOTLARIM!AE27)","v":""},{"$f":"IF(NOTLARIM!AF27=\"\",\"\",NOTLARIM!AF27)","v":""},{"$f":"IF(NOTLARIM!AG27=\"\",\"\",NOTLARIM!AG27)","v":""},{"$f":"IF(NOTLARIM!AH27=\"\",\"\",NOTLARIM!AH27)","v":""},{"$f":"IF(NOTLARIM!AI27=\"\",\"\",NOTLARIM!AI27)","v":""}]
[null,null,null,null,15,{"$f":"IF(NOTLARIM!F28=\"\",\"\",NOTLARIM!F28)","v":""},{"$f":"IF(NOTLARIM!G28=\"\",\"\",NOTLARIM!G28)","v":""},{"$f":"IF(NOTLARIM!H28=\"\",\"\",NOTLARIM!H28)","v":""},{"$f":"IF(NOTLARIM!I28=\"\",\"\",NOTLARIM!I28)","v":""},{"$f":"IF(NOTLARIM!J28=\"\",\"\",NOTLARIM!J28)","v":""},{"$f":"IF(NOTLARIM!K28=\"\",\"\",NOTLARIM!K28)","v":""},{"$f":"IF(NOTLARIM!L28=\"\",\"\",NOTLARIM!L28)","v":""},{"$f":"IF(NOTLARIM!M28=\"\",\"\",NOTLARIM!M28)","v":""},{"$f":"IF(NOTLARIM!N28=\"\",\"\",NOTLARIM!N28)","v":""},{"$f":"IF(NOTLARIM!O28=\"\",\"\",NOTLARIM!O28)","v":""},{"$f":"IF(NOTLARIM!P28=\"\",\"\",NOTLARIM!P28)","v":""},{"$f":"IF(NOTLARIM!Q28=\"\",\"\",NOTLARIM!Q28)","v":""},{"$f":"IF(NOTLARIM!R28=\"\",\"\",NOTLARIM!R28)","v":""},{"$f":"IF(NOTLARIM!S28=\"\",\"\",NOTLARIM!S28)","v":""},{"$f":"IF(NOTLARIM!T28=\"\",\"\",NOTLARIM!T28)","v":""},{"$f":"IF(NOTLARIM!U28=\"\",\"\",NOTLARIM!U28)","v":""},{"$f":"IF(NOTLARIM!V28=\"\",\"\",NOTLARIM!V28)","v":""},{"$f":"IF(NOTLARIM!W28=\"\",\"\",NOTLARIM!W28)","v":""},{"$f":"IF(NOTLARIM!X28=\"\",\"\",NOTLARIM!X28)","v":""},{"$f":"IF(NOTLARIM!Y28=\"\",\"\",NOTLARIM!Y28)","v":""},{"$f":"IF(NOTLARIM!Z28=\"\",\"\",NOTLARIM!Z28)","v":""},{"$f":"IF(NOTLARIM!AA28=\"\",\"\",NOTLARIM!AA28)","v":""},{"$f":"IF(NOTLARIM!AB28=\"\",\"\",NOTLARIM!AB28)","v":""},{"$f":"IF(NOTLARIM!AC28=\"\",\"\",NOTLARIM!AC28)","v":""},{"$f":"IF(NOTLARIM!AD28=\"\",\"\",NOTLARIM!AD28)","v":""},{"$f":"IF(NOTLARIM!AE28=\"\",\"\",NOTLARIM!AE28)","v":""},{"$f":"IF(NOTLARIM!AF28=\"\",\"\",NOTLARIM!AF28)","v":""},{"$f":"IF(NOTLARIM!AG28=\"\",\"\",NOTLARIM!AG28)","v":""},{"$f":"IF(NOTLARIM!AH28=\"\",\"\",NOTLARIM!AH28)","v":""},{"$f":"IF(NOTLARIM!AI28=\"\",\"\",NOTLARIM!AI28)","v":""}]
[null,null,null,null,16,{"$f":"IF(NOTLARIM!F29=\"\",\"\",NOTLARIM!F29)","v":""},{"$f":"IF(NOTLARIM!G29=\"\",\"\",NOTLARIM!G29)","v":""},{"$f":"IF(NOTLARIM!H29=\"\",\"\",NOTLARIM!H29)","v":""},{"$f":"IF(NOTLARIM!I29=\"\",\"\",NOTLARIM!I29)","v":""},{"$f":"IF(NOTLARIM!J29=\"\",\"\",NOTLARIM!J29)","v":""},{"$f":"IF(NOTLARIM!K29=\"\",\"\",NOTLARIM!K29)","v":""},{"$f":"IF(NOTLARIM!L29=\"\",\"\",NOTLARIM!L29)","v":""},{"$f":"IF(NOTLARIM!M29=\"\",\"\",NOTLARIM!M29)","v":""},{"$f":"IF(NOTLARIM!N29=\"\",\"\",NOTLARIM!N29)","v":""},{"$f":"IF(NOTLARIM!O29=\"\",\"\",NOTLARIM!O29)","v":""},{"$f":"IF(NOTLARIM!P29=\"\",\"\",NOTLARIM!P29)","v":""},{"$f":"IF(NOTLARIM!Q29=\"\",\"\",NOTLARIM!Q29)","v":""},{"$f":"IF(NOTLARIM!R29=\"\",\"\",NOTLARIM!R29)","v":""},{"$f":"IF(NOTLARIM!S29=\"\",\"\",NOTLARIM!S29)","v":""},{"$f":"IF(NOTLARIM!T29=\"\",\"\",NOTLARIM!T29)","v":""},{"$f":"IF(NOTLARIM!U29=\"\",\"\",NOTLARIM!U29)","v":""},{"$f":"IF(NOTLARIM!V29=\"\",\"\",NOTLARIM!V29)","v":""},{"$f":"IF(NOTLARIM!W29=\"\",\"\",NOTLARIM!W29)","v":""},{"$f":"IF(NOTLARIM!X29=\"\",\"\",NOTLARIM!X29)","v":""},{"$f":"IF(NOTLARIM!Y29=\"\",\"\",NOTLARIM!Y29)","v":""},{"$f":"IF(NOTLARIM!Z29=\"\",\"\",NOTLARIM!Z29)","v":""},{"$f":"IF(NOTLARIM!AA29=\"\",\"\",NOTLARIM!AA29)","v":""},{"$f":"IF(NOTLARIM!AB29=\"\",\"\",NOTLARIM!AB29)","v":""},{"$f":"IF(NOTLARIM!AC29=\"\",\"\",NOTLARIM!AC29)","v":""},{"$f":"IF(NOTLARIM!AD29=\"\",\"\",NOTLARIM!AD29)","v":""},{"$f":"IF(NOTLARIM!AE29=\"\",\"\",NOTLARIM!AE29)","v":""},{"$f":"IF(NOTLARIM!AF29=\"\",\"\",NOTLARIM!AF29)","v":""},{"$f":"IF(NOTLARIM!AG29=\"\",\"\",NOTLARIM!AG29)","v":""},{"$f":"IF(NOTLARIM!AH29=\"\",\"\",NOTLARIM!AH29)","v":""},{"$f":"IF(NOTLARIM!AI29=\"\",\"\",NOTLARIM!AI29)","v":""}]
[null,null,null,null,17,{"$f":"IF(NOTLARIM!F30=\"\",\"\",NOTLARIM!F30)","v":""},{"$f":"IF(NOTLARIM!G30=\"\",\"\",NOTLARIM!G30)","v":""},{"$f":"IF(NOTLARIM!H30=\"\",\"\",NOTLARIM!H30)","v":""},{"$f":"IF(NOTLARIM!I30=\"\",\"\",NOTLARIM!I30)","v":""},{"$f":"IF(NOTLARIM!J30=\"\",\"\",NOTLARIM!J30)","v":""},{"$f":"IF(NOTLARIM!K30=\"\",\"\",NOTLARIM!K30)","v":""},{"$f":"IF(NOTLARIM!L30=\"\",\"\",NOTLARIM!L30)","v":""},{"$f":"IF(NOTLARIM!M30=\"\",\"\",NOTLARIM!M30)","v":""},{"$f":"IF(NOTLARIM!N30=\"\",\"\",NOTLARIM!N30)","v":""},{"$f":"IF(NOTLARIM!O30=\"\",\"\",NOTLARIM!O30)","v":""},{"$f":"IF(NOTLARIM!P30=\"\",\"\",NOTLARIM!P30)","v":""},{"$f":"IF(NOTLARIM!Q30=\"\",\"\",NOTLARIM!Q30)","v":""},{"$f":"IF(NOTLARIM!R30=\"\",\"\",NOTLARIM!R30)","v":""},{"$f":"IF(NOTLARIM!S30=\"\",\"\",NOTLARIM!S30)","v":""},{"$f":"IF(NOTLARIM!T30=\"\",\"\",NOTLARIM!T30)","v":""},{"$f":"IF(NOTLARIM!U30=\"\",\"\",NOTLARIM!U30)","v":""},{"$f":"IF(NOTLARIM!V30=\"\",\"\",NOTLARIM!V30)","v":""},{"$f":"IF(NOTLARIM!W30=\"\",\"\",NOTLARIM!W30)","v":""},{"$f":"IF(NOTLARIM!X30=\"\",\"\",NOTLARIM!X30)","v":""},{"$f":"IF(NOTLARIM!Y30=\"\",\"\",NOTLARIM!Y30)","v":""},{"$f":"IF(NOTLARIM!Z30=\"\",\"\",NOTLARIM!Z30)","v":""},{"$f":"IF(NOTLARIM!AA30=\"\",\"\",NOTLARIM!AA30)","v":""},{"$f":"IF(NOTLARIM!AB30=\"\",\"\",NOTLARIM!AB30)","v":""},{"$f":"IF(NOTLARIM!AC30=\"\",\"\",NOTLARIM!AC30)","v":""},{"$f":"IF(NOTLARIM!AD30=\"\",\"\",NOTLARIM!AD30)","v":""},{"$f":"IF(NOTLARIM!AE30=\"\",\"\",NOTLARIM!AE30)","v":""},{"$f":"IF(NOTLARIM!AF30=\"\",\"\",NOTLARIM!AF30)","v":""},{"$f":"IF(NOTLARIM!AG30=\"\",\"\",NOTLARIM!AG30)","v":""},{"$f":"IF(NOTLARIM!AH30=\"\",\"\",NOTLARIM!AH30)","v":""},{"$f":"IF(NOTLARIM!AI30=\"\",\"\",NOTLARIM!AI30)","v":""}]
[null,null,null,null,18,{"$f":"IF(NOTLARIM!F31=\"\",\"\",NOTLARIM!F31)","v":""},{"$f":"IF(NOTLARIM!G31=\"\",\"\",NOTLARIM!G31)","v":""},{"$f":"IF(NOTLARIM!H31=\"\",\"\",NOTLARIM!H31)","v":""},{"$f":"IF(NOTLARIM!I31=\"\",\"\",NOTLARIM!I31)","v":""},{"$f":"IF(NOTLARIM!J31=\"\",\"\",NOTLARIM!J31)","v":""},{"$f":"IF(NOTLARIM!K31=\"\",\"\",NOTLARIM!K31)","v":""},{"$f":"IF(NOTLARIM!L31=\"\",\"\",NOTLARIM!L31)","v":""},{"$f":"IF(NOTLARIM!M31=\"\",\"\",NOTLARIM!M31)","v":""},{"$f":"IF(NOTLARIM!N31=\"\",\"\",NOTLARIM!N31)","v":""},{"$f":"IF(NOTLARIM!O31=\"\",\"\",NOTLARIM!O31)","v":""},{"$f":"IF(NOTLARIM!P31=\"\",\"\",NOTLARIM!P31)","v":""},{"$f":"IF(NOTLARIM!Q31=\"\",\"\",NOTLARIM!Q31)","v":""},{"$f":"IF(NOTLARIM!R31=\"\",\"\",NOTLARIM!R31)","v":""},{"$f":"IF(NOTLARIM!S31=\"\",\"\",NOTLARIM!S31)","v":""},{"$f":"IF(NOTLARIM!T31=\"\",\"\",NOTLARIM!T31)","v":""},{"$f":"IF(NOTLARIM!U31=\"\",\"\",NOTLARIM!U31)","v":""},{"$f":"IF(NOTLARIM!V31=\"\",\"\",NOTLARIM!V31)","v":""},{"$f":"IF(NOTLARIM!W31=\"\",\"\",NOTLARIM!W31)","v":""},{"$f":"IF(NOTLARIM!X31=\"\",\"\",NOTLARIM!X31)","v":""},{"$f":"IF(NOTLARIM!Y31=\"\",\"\",NOTLARIM!Y31)","v":""},{"$f":"IF(NOTLARIM!Z31=\"\",\"\",NOTLARIM!Z31)","v":""},{"$f":"IF(NOTLARIM!AA31=\"\",\"\",NOTLARIM!AA31)","v":""},{"$f":"IF(NOTLARIM!AB31=\"\",\"\",NOTLARIM!AB31)","v":""},{"$f":"IF(NOTLARIM!AC31=\"\",\"\",NOTLARIM!AC31)","v":""},{"$f":"IF(NOTLARIM!AD31=\"\",\"\",NOTLARIM!AD31)","v":""},{"$f":"IF(NOTLARIM!AE31=\"\",\"\",NOTLARIM!AE31)","v":""},{"$f":"IF(NOTLARIM!AF31=\"\",\"\",NOTLARIM!AF31)","v":""},{"$f":"IF(NOTLARIM!AG31=\"\",\"\",NOTLARIM!AG31)","v":""},{"$f":"IF(NOTLARIM!AH31=\"\",\"\",NOTLARIM!AH31)","v":""},{"$f":"IF(NOTLARIM!AI31=\"\",\"\",NOTLARIM!AI31)","v":""}]
[null,null,null,null,19,{"$f":"IF(NOTLARIM!F32=\"\",\"\",NOTLARIM!F32)","v":""},{"$f":"IF(NOTLARIM!G32=\"\",\"\",NOTLARIM!G32)","v":""},{"$f":"IF(NOTLARIM!H32=\"\",\"\",NOTLARIM!H32)","v":""},{"$f":"IF(NOTLARIM!I32=\"\",\"\",NOTLARIM!I32)","v":""},{"$f":"IF(NOTLARIM!J32=\"\",\"\",NOTLARIM!J32)","v":""},{"$f":"IF(NOTLARIM!K32=\"\",\"\",NOTLARIM!K32)","v":""},{"$f":"IF(NOTLARIM!L32=\"\",\"\",NOTLARIM!L32)","v":""},{"$f":"IF(NOTLARIM!M32=\"\",\"\",NOTLARIM!M32)","v":""},{"$f":"IF(NOTLARIM!N32=\"\",\"\",NOTLARIM!N32)","v":""},{"$f":"IF(NOTLARIM!O32=\"\",\"\",NOTLARIM!O32)","v":""},{"$f":"IF(NOTLARIM!P32=\"\",\"\",NOTLARIM!P32)","v":""},{"$f":"IF(NOTLARIM!Q32=\"\",\"\",NOTLARIM!Q32)","v":""},{"$f":"IF(NOTLARIM!R32=\"\",\"\",NOTLARIM!R32)","v":""},{"$f":"IF(NOTLARIM!S32=\"\",\"\",NOTLARIM!S32)","v":""},{"$f":"IF(NOTLARIM!T32=\"\",\"\",NOTLARIM!T32)","v":""},{"$f":"IF(NOTLARIM!U32=\"\",\"\",NOTLARIM!U32)","v":""},{"$f":"IF(NOTLARIM!V32=\"\",\"\",NOTLARIM!V32)","v":""},{"$f":"IF(NOTLARIM!W32=\"\",\"\",NOTLARIM!W32)","v":""},{"$f":"IF(NOTLARIM!X32=\"\",\"\",NOTLARIM!X32)","v":""},{"$f":"IF(NOTLARIM!Y32=\"\",\"\",NOTLARIM!Y32)","v":""},{"$f":"IF(NOTLARIM!Z32=\"\",\"\",NOTLARIM!Z32)","v":""},{"$f":"IF(NOTLARIM!AA32=\"\",\"\",NOTLARIM!AA32)","v":""},{"$f":"IF(NOTLARIM!AB32=\"\",\"\",NOTLARIM!AB32)","v":""},{"$f":"IF(NOTLARIM!AC32=\"\",\"\",NOTLARIM!AC32)","v":""},{"$f":"IF(NOTLARIM!AD32=\"\",\"\",NOTLARIM!AD32)","v":""},{"$f":"IF(NOTLARIM!AE32=\"\",\"\",NOTLARIM!AE32)","v":""},{"$f":"IF(NOTLARIM!AF32=\"\",\"\",NOTLARIM!AF32)","v":""},{"$f":"IF(NOTLARIM!AG32=\"\",\"\",NOTLARIM!AG32)","v":""},{"$f":"IF(NOTLARIM!AH32=\"\",\"\",NOTLARIM!AH32)","v":""},{"$f":"IF(NOTLARIM!AI32=\"\",\"\",NOTLARIM!AI32)","v":""}]
[null,null,null,null,20,{"$f":"IF(NOTLARIM!F33=\"\",\"\",NOTLARIM!F33)","v":""},{"$f":"IF(NOTLARIM!G33=\"\",\"\",NOTLARIM!G33)","v":""},{"$f":"IF(NOTLARIM!H33=\"\",\"\",NOTLARIM!H33)","v":""},{"$f":"IF(NOTLARIM!I33=\"\",\"\",NOTLARIM!I33)","v":""},{"$f":"IF(NOTLARIM!J33=\"\",\"\",NOTLARIM!J33)","v":""},{"$f":"IF(NOTLARIM!K33=\"\",\"\",NOTLARIM!K33)","v":""},{"$f":"IF(NOTLARIM!L33=\"\",\"\",NOTLARIM!L33)","v":""},{"$f":"IF(NOTLARIM!M33=\"\",\"\",NOTLARIM!M33)","v":""},{"$f":"IF(NOTLARIM!N33=\"\",\"\",NOTLARIM!N33)","v":""},{"$f":"IF(NOTLARIM!O33=\"\",\"\",NOTLARIM!O33)","v":""},{"$f":"IF(NOTLARIM!P33=\"\",\"\",NOTLARIM!P33)","v":""},{"$f":"IF(NOTLARIM!Q33=\"\",\"\",NOTLARIM!Q33)","v":""},{"$f":"IF(NOTLARIM!R33=\"\",\"\",NOTLARIM!R33)","v":""},{"$f":"IF(NOTLARIM!S33=\"\",\"\",NOTLARIM!S33)","v":""},{"$f":"IF(NOTLARIM!T33=\"\",\"\",NOTLARIM!T33)","v":""},{"$f":"IF(NOTLARIM!U33=\"\",\"\",NOTLARIM!U33)","v":""},{"$f":"IF(NOTLARIM!V33=\"\",\"\",NOTLARIM!V33)","v":""},{"$f":"IF(NOTLARIM!W33=\"\",\"\",NOTLARIM!W33)","v":""},{"$f":"IF(NOTLARIM!X33=\"\",\"\",NOTLARIM!X33)","v":""},{"$f":"IF(NOTLARIM!Y33=\"\",\"\",NOTLARIM!Y33)","v":""},{"$f":"IF(NOTLARIM!Z33=\"\",\"\",NOTLARIM!Z33)","v":""},{"$f":"IF(NOTLARIM!AA33=\"\",\"\",NOTLARIM!AA33)","v":""},{"$f":"IF(NOTLARIM!AB33=\"\",\"\",NOTLARIM!AB33)","v":""},{"$f":"IF(NOTLARIM!AC33=\"\",\"\",NOTLARIM!AC33)","v":""},{"$f":"IF(NOTLARIM!AD33=\"\",\"\",NOTLARIM!AD33)","v":""},{"$f":"IF(NOTLARIM!AE33=\"\",\"\",NOTLARIM!AE33)","v":""},{"$f":"IF(NOTLARIM!AF33=\"\",\"\",NOTLARIM!AF33)","v":""},{"$f":"IF(NOTLARIM!AG33=\"\",\"\",NOTLARIM!AG33)","v":""},{"$f":"IF(NOTLARIM!AH33=\"\",\"\",NOTLARIM!AH33)","v":""},{"$f":"IF(NOTLARIM!AI33=\"\",\"\",NOTLARIM!AI33)","v":""}]
[null,null,null,null,"Başarılı Ders Sayısı :",null,null,null,{"$f":"IF(NOTLARIM!I34=\"\",\"\",NOTLARIM!I34)","v":""},{"$f":"IF(NOTLARIM!J34=\"\",\"\",NOTLARIM!J34)","v":""},{"$f":"IF(NOTLARIM!K34=\"\",\"\",NOTLARIM!K34)","v":""},{"$f":"IF(NOTLARIM!L34=\"\",\"\",NOTLARIM!L34)","v":""},{"$f":"IF(NOTLARIM!M34=\"\",\"\",NOTLARIM!M34)","v":""},{"$f":"IF(NOTLARIM!N34=\"\",\"\",NOTLARIM!N34)","v":""},{"$f":"IF(NOTLARIM!O34=\"\",\"\",NOTLARIM!O34)","v":""},{"$f":"IF(NOTLARIM!P34=\"\",\"\",NOTLARIM!P34)","v":""},{"$f":"IF(NOTLARIM!Q34=\"\",\"\",NOTLARIM!Q34)","v":""},{"$f":"IF(NOTLARIM!R34=\"\",\"\",NOTLARIM!R34)","v":""},{"$f":"IF(NOTLARIM!S34=\"\",\"\",NOTLARIM!S34)","v":""},{"$f":"IF(NOTLARIM!T34=\"\",\"\",NOTLARIM!T34)","v":""},{"$f":"IF(NOTLARIM!U34=\"\",\"\",NOTLARIM!U34)","v":""},{"$f":"IF(NOTLARIM!V34=\"\",\"\",NOTLARIM!V34)","v":""},{"$f":"IF(NOTLARIM!W34=\"\",\"\",NOTLARIM!W34)","v":""},{"$f":"IF(NOTLARIM!X34=\"\",\"\",NOTLARIM!X34)","v":""},{"$f":"IF(NOTLARIM!Y34=\"\",\"\",NOTLARIM!Y34)","v":""},{"$f":"IF(NOTLARIM!Z34=\"\",\"\",NOTLARIM!Z34)","v":""},{"$f":"IF(NOTLARIM!AA34=\"\",\"\",NOTLARIM!AA34)","v":""},{"$f":"IF(NOTLARIM!AB34=\"\",\"\",NOTLARIM!AB34)","v":""},{"$f":"IF(NOTLARIM!AC34=\"\",\"\",NOTLARIM!AC34)","v":""},{"$f":"IF(NOTLARIM!AD34=\"\",\"\",NOTLARIM!AD34)","v":""},{"$f":"IF(NOTLARIM!AE34=\"\",\"\",NOTLARIM!AE34)","v":""},{"$f":"IF(NOTLARIM!AF34=\"\",\"\",NOTLARIM!AF34)","v":""},{"$f":"IF(NOTLARIM!AG34=\"\",\"\",NOTLARIM!AG34)","v":""},{"$f":"IF(NOTLARIM!AH34=\"\",\"\",NOTLARIM!AH34)","v":""},{"$f":"IF(NOTLARIM!AI34=\"\",\"\",NOTLARIM!AI34)","v":""}]
[null,null,null,null,"Başarısız Ders Sayısı :",null,null,null,{"$f":"IF(NOTLARIM!I35=\"\",\"\",NOTLARIM!I35)","v":""},{"$f":"IF(NOTLARIM!J35=\"\",\"\",NOTLARIM!J35)","v":""},{"$f":"IF(NOTLARIM!K35=\"\",\"\",NOTLARIM!K35)","v":""},{"$f":"IF(NOTLARIM!L35=\"\",\"\",NOTLARIM!L35)","v":""},{"$f":"IF(NOTLARIM!M35=\"\",\"\",NOTLARIM!M35)","v":""},{"$f":"IF(NOTLARIM!N35=\"\",\"\",NOTLARIM!N35)","v":""},{"$f":"IF(NOTLARIM!O35=\"\",\"\",NOTLARIM!O35)","v":""},{"$f":"IF(NOTLARIM!P35=\"\",\"\",NOTLARIM!P35)","v":""},{"$f":"IF(NOTLARIM!Q35=\"\",\"\",NOTLARIM!Q35)","v":""},{"$f":"IF(NOTLARIM!R35=\"\",\"\",NOTLARIM!R35)","v":""},{"$f":"IF(NOTLARIM!S35=\"\",\"\",NOTLARIM!S35)","v":""},{"$f":"IF(NOTLARIM!T35=\"\",\"\",NOTLARIM!T35)","v":""},{"$f":"IF(NOTLARIM!U35=\"\",\"\",NOTLARIM!U35)","v":""},{"$f":"IF(NOTLARIM!V35=\"\",\"\",NOTLARIM!V35)","v":""},{"$f":"IF(NOTLARIM!W35=\"\",\"\",NOTLARIM!W35)","v":""},{"$f":"IF(NOTLARIM!X35=\"\",\"\",NOTLARIM!X35)","v":""},{"$f":"IF(NOTLARIM!Y35=\"\",\"\",NOTLARIM!Y35)","v":""},{"$f":"IF(NOTLARIM!Z35=\"\",\"\",NOTLARIM!Z35)","v":""},{"$f":"IF(NOTLARIM!AA35=\"\",\"\",NOTLARIM!AA35)","v":""},{"$f":"IF(NOTLARIM!AB35=\"\",\"\",NOTLARIM!AB35)","v":""},{"$f":"IF(NOTLARIM!AC35=\"\",\"\",NOTLARIM!AC35)","v":""},{"$f":"IF(NOTLARIM!AD35=\"\",\"\",NOTLARIM!AD35)","v":""},{"$f":"IF(NOTLARIM!AE35=\"\",\"\",NOTLARIM!AE35)","v":""},{"$f":"IF(NOTLARIM!AF35=\"\",\"\",NOTLARIM!AF35)","v":""},{"$f":"IF(NOTLARIM!AG35=\"\",\"\",NOTLARIM!AG35)","v":""},{"$f":"IF(NOTLARIM!AH35=\"\",\"\",NOTLARIM!AH35)","v":""},{"$f":"IF(NOTLARIM!AI35=\"\",\"\",NOTLARIM!AI35)","v":""}]
[null,null,null,null,"Not Ortalaması :",null,null,null,{"$f":"IF(NOTLARIM!I36=\"\",\"\",NOTLARIM!I36)","v":""},{"$f":"IF(NOTLARIM!J36=\"\",\"\",NOTLARIM!J36)","v":""},{"$f":"IF(NOTLARIM!K36=\"\",\"\",NOTLARIM!K36)","v":""},{"$f":"IF(NOTLARIM!L36=\"\",\"\",NOTLARIM!L36)","v":""},{"$f":"IF(NOTLARIM!M36=\"\",\"\",NOTLARIM!M36)","v":""},{"$f":"IF(NOTLARIM!N36=\"\",\"\",NOTLARIM!N36)","v":""},{"$f":"IF(NOTLARIM!O36=\"\",\"\",NOTLARIM!O36)","v":""},{"$f":"IF(NOTLARIM!P36=\"\",\"\",NOTLARIM!P36)","v":""},{"$f":"IF(NOTLARIM!Q36=\"\",\"\",NOTLARIM!Q36)","v":""},{"$f":"IF(NOTLARIM!R36=\"\",\"\",NOTLARIM!R36)","v":""},{"$f":"IF(NOTLARIM!S36=\"\",\"\",NOTLARIM!S36)","v":""},{"$f":"IF(NOTLARIM!T36=\"\",\"\",NOTLARIM!T36)","v":""},{"$f":"IF(NOTLARIM!U36=\"\",\"\",NOTLARIM!U36)","v":""},{"$f":"IF(NOTLARIM!V36=\"\",\"\",NOTLARIM!V36)","v":""},{"$f":"IF(NOTLARIM!W36=\"\",\"\",NOTLARIM!W36)","v":""},{"$f":"IF(NOTLARIM!X36=\"\",\"\",NOTLARIM!X36)","v":""},{"$f":"IF(NOTLARIM!Y36=\"\",\"\",NOTLARIM!Y36)","v":""},{"$f":"IF(NOTLARIM!Z36=\"\",\"\",NOTLARIM!Z36)","v":""},{"$f":"IF(NOTLARIM!AA36=\"\",\"\",NOTLARIM!AA36)","v":""},{"$f":"IF(NOTLARIM!AB36=\"\",\"\",NOTLARIM!AB36)","v":""},{"$f":"IF(NOTLARIM!AC36=\"\",\"\",NOTLARIM!AC36)","v":""},{"$f":"IF(NOTLARIM!AD36=\"\",\"\",NOTLARIM!AD36)","v":""},{"$f":"IF(NOTLARIM!AE36=\"\",\"\",NOTLARIM!AE36)","v":""},{"$f":"IF(NOTLARIM!AF36=\"\",\"\",NOTLARIM!AF36)","v":""},{"$f":"IF(NOTLARIM!AG36=\"\",\"\",NOTLARIM!AG36)","v":""},{"$f":"IF(NOTLARIM!AH36=\"\",\"\",NOTLARIM!AH36)","v":""},{"$f":"IF(NOTLARIM!AI36=\"\",\"\",NOTLARIM!AI36)","v":""}]
[null,null,null,null,"Başarı Yüzdesi :",null,null,null,{"$f":"IF(NOTLARIM!I37=\"\",\"\",NOTLARIM!I37)","v":""},{"$f":"IF(NOTLARIM!J37=\"\",\"\",NOTLARIM!J37)","v":""},{"$f":"IF(NOTLARIM!K37=\"\",\"\",NOTLARIM!K37)","v":""},{"$f":"IF(NOTLARIM!L37=\"\",\"\",NOTLARIM!L37)","v":""},{"$f":"IF(NOTLARIM!M37=\"\",\"\",NOTLARIM!M37)","v":""},{"$f":"IF(NOTLARIM!N37=\"\",\"\",NOTLARIM!N37)","v":""},{"$f":"IF(NOTLARIM!O37=\"\",\"\",NOTLARIM!O37)","v":""},{"$f":"IF(NOTLARIM!P37=\"\",\"\",NOTLARIM!P37)","v":""},{"$f":"IF(NOTLARIM!Q37=\"\",\"\",NOTLARIM!Q37)","v":""},{"$f":"IF(NOTLARIM!R37=\"\",\"\",NOTLARIM!R37)","v":""},{"$f":"IF(NOTLARIM!S37=\"\",\"\",NOTLARIM!S37)","v":""},{"$f":"IF(NOTLARIM!T37=\"\",\"\",NOTLARIM!T37)","v":""},{"$f":"IF(NOTLARIM!U37=\"\",\"\",NOTLARIM!U37)","v":""},{"$f":"IF(NOTLARIM!V37=\"\",\"\",NOTLARIM!V37)","v":""},{"$f":"IF(NOTLARIM!W37=\"\",\"\",NOTLARIM!W37)","v":""},{"$f":"IF(NOTLARIM!X37=\"\",\"\",NOTLARIM!X37)","v":""},{"$f":"IF(NOTLARIM!Y37=\"\",\"\",NOTLARIM!Y37)","v":""},{"$f":"IF(NOTLARIM!Z37=\"\",\"\",NOTLARIM!Z37)","v":""},{"$f":"IF(NOTLARIM!AA37=\"\",\"\",NOTLARIM!AA37)","v":""},{"$f":"IF(NOTLARIM!AB37=\"\",\"\",NOTLARIM!AB37)","v":""},{"$f":"IF(NOTLARIM!AC37=\"\",\"\",NOTLARIM!AC37)","v":""},{"$f":"IF(NOTLARIM!AD37=\"\",\"\",NOTLARIM!AD37)","v":""},{"$f":"IF(NOTLARIM!AE37=\"\",\"\",NOTLARIM!AE37)","v":""},{"$f":"IF(NOTLARIM!AF37=\"\",\"\",NOTLARIM!AF37)","v":""},{"$f":"IF(NOTLARIM!AG37=\"\",\"\",NOTLARIM!AG37)","v":""},{"$f":"IF(NOTLARIM!AH37=\"\",\"\",NOTLARIM!AH37)","v":""},{"$f":"IF(NOTLARIM!AI37=\"\",\"\",NOTLARIM!AI37)","v":""}]